BEGIN:VCALENDAR
VERSION:2.0
PRODID:-//ChamberMaster//Event Calendar 2.0//EN
METHOD:PUBLISH
X-PUBLISHED-TTL:P3D
REFRESH-INTERVAL:P3D
CALSCALE:GREGORIAN
BEGIN:VEVENT
DTSTART:20130614T180000Z
DTEND:20130614T201500Z
X-MICROSOFT-CDO-ALLDAYEVENT:FALSE
SUMMARY:US-Indonesia TIFA Private Sector Consultations
DESCRIPTION:The U.S. Government and the Government of Indonesia (GOI) welcome private sector participation during the June Trade and Investment Framework Agreement (TIFA) Talks\, scheduled for June 13-14\, 2013 in Washington\, D.C.   \n\n	 \n\n	Please join the U.S. Chamber of Commerce and US-ASEAN Business Council for a roundtable with the Government of Indonesia (GOI) TIFA delegation on Friday\, June 14 at  2:00 PM at the U.S. Chamber of Commerce.  The delegation led by Iman Pambagyo\, Director General for International Trade Cooperation\, has agreed to talk about the revision of the negative list and what that means for the private sector.   \n\n	 \n\n	Following the meeting with GOI\, Christine Brown\, Director of Indonesia at USTR\, will brief the private sector on the issues raised during the official TIFA meetings (3:15-4:15 PM at the U.S. Chamber of Commerce).\n\n	\n\n	Please RSVP to Natalie Obermann at nobermann@uschamber.com
X-ALT-DESC;FMTTYPE=text/html:<div>\n	The U.S. Government and the Government of Indonesia (GOI) welcome private sector participation during the June Trade and Investment Framework Agreement (TIFA) Talks\, scheduled for June 13-14\, 2013 in Washington\, D.C. &nbsp\;&nbsp\;</div>\n<div>\n	&nbsp\;</div>\n<div>\n	Please join the U.S. Chamber of Commerce and US-ASEAN Business Council for a roundtable with the Government of Indonesia (GOI) TIFA delegation on Friday\, June 14 at &nbsp\;2:00 PM at the U.S. Chamber of Commerce. &nbsp\;The delegation led by Iman Pambagyo\, Director General for International Trade Cooperation\, has agreed to talk about the revision of the negative list and what that means for the private sector. &nbsp\;&nbsp\;</div>\n<div>\n	&nbsp\;</div>\n<div>\n	Following the meeting with GOI\, Christine Brown\, Director of Indonesia at USTR\, will brief the private sector on the issues raised during the official TIFA meetings (3:15-4:15 PM at the U.S. Chamber of Commerce).</div>\n<div>\n	<br />\n	Please RSVP to Natalie Obermann at <a href="mailto:nobermann@uschamber.com?subject=RSVP%20for%20US-Indonesia%20TIFA%20Private%20Sector%20consultations">nobermann@uschamber.com</a><br />\n	&nbsp\;</div>\n
LOCATION:3M/RJR ROOM U.S. Chamber of Commerce 1615 H Street\, NW Washington\, D.C.
UID:e.9078.803
SEQUENCE:3
DTSTAMP:20260421T222601Z
URL:http://memberzone.usasean.org/events/details/us-indonesia-tifa-private-sector-consultations-06-14-2013-803
END:VEVENT

END:VCALENDAR
