BEGIN:VCALENDAR
VERSION:2.0
PRODID:-//ChamberMaster//Event Calendar 2.0//EN
METHOD:PUBLISH
X-PUBLISHED-TTL:P3D
REFRESH-INTERVAL:P3D
CALSCALE:GREGORIAN
BEGIN:VEVENT
DTSTART;VALUE=DATE:20211207
DTEND;VALUE=DATE:20211209
TRANSP:TRANSPARENT
X-MICROSOFT-CDO-ALLDAYEVENT:TRUE
SUMMARY:US-ASEAN Virtual Workshop on Digital Trade Standards and Conformance
DESCRIPTION:The Council is pleased to invite you to the U.S.-ASEAN Virtual Workshop on Digital Trade Standards and Conformance in collaboration with the U.S Department of Commerce. This event is initiated as a result of the Council's engagements with the ASEAN Consultative Committee on Standards and Quality's (ACCSQ) and the Digital Trade Standards and Conformance Working Group (DTSCWG) in May and June of 2021.\n\n\n\nThe workshop aims support ASEAN's regional economic integration agenda through harmonization of digital trade rules and minimization of unnecessary technical barriers that may impede digital trade.
X-ALT-DESC;FMTTYPE=text/html:<br />\n<span style="font-family:arial\;"><span style="font-size:14px\;">The Council is pleased to invite you to the U.S.-ASEAN Virtual Workshop on Digital Trade Standards and Conformance in collaboration with the U.S Department of Commerce. This event is initiated as a result of the Council&rsquo\;s engagements with the ASEAN Consultative Committee on Standards and Quality&rsquo\;s (ACCSQ) and the Digital Trade Standards and Conformance Working Group (DTSCWG) in May and June of 2021.<br />\n<br />\nThe workshop aims support ASEAN&rsquo\;s regional economic integration agenda through harmonization of digital trade rules and minimization of unnecessary technical barriers that may impede digital trade.</span></span>
LOCATION:Virtual
UID:e.9078.8640
SEQUENCE:3
DTSTAMP:20260423T025611Z
URL:http://memberzone.usasean.org/events/details/us-asean-virtual-workshop-on-digital-trade-standards-and-conformance-8640
END:VEVENT

END:VCALENDAR
