BEGIN:VCALENDAR
VERSION:2.0
PRODID:-//ChamberMaster//Event Calendar 2.0//EN
METHOD:PUBLISH
X-PUBLISHED-TTL:P3D
REFRESH-INTERVAL:P3D
CALSCALE:GREGORIAN
BEGIN:VEVENT
DTSTART:20220707T020000Z
DTEND:20220707T030000Z
X-MICROSOFT-CDO-ALLDAYEVENT:FALSE
SUMMARY:[US-ASEAN] Virtual Briefing on Vietnam Draft Law on Consumer Rights Protection
DESCRIPTION:Virtual Briefing on Vietnam Draft Law on Consumer Rights Protection
X-ALT-DESC;FMTTYPE=text/html:<span style="font-size:14px\;"><span style="font-family:arial\;"><span style="font-weight: 600\;">Virtual Briefing on Vietnam Draft Law on Consumer Rights Protection</span></span></span>
LOCATION:Join Zoom Meeting (Recommended) https://usasean.zoom.us/j/89608945714?pwd=RDZHQU5GMVVwSkYwVnJtY2dvcnlxUT09 We strongly encourage you to join this call using the Zoom app/client by clicking the link above. This enables full functionality and minimal bandwidth issues.
UID:e.9078.8809
SEQUENCE:3
DTSTAMP:20260422T014800Z
URL:http://memberzone.usasean.org/events/details/us-asean-virtual-briefing-on-vietnam-draft-law-on-consumer-rights-protection-8809
END:VEVENT

END:VCALENDAR
