BEGIN:VCALENDAR
VERSION:2.0
PRODID:-//ChamberMaster//Event Calendar 2.0//EN
METHOD:PUBLISH
X-PUBLISHED-TTL:P3D
REFRESH-INTERVAL:P3D
CALSCALE:GREGORIAN
BEGIN:VEVENT
DTSTART:20211110T020000Z
DTEND:20211110T033000Z
X-MICROSOFT-CDO-ALLDAYEVENT:FALSE
SUMMARY:US-ASEAN Internship Program Webinar Series: “We Prosper: Emerging Career Opportunities in Circular Economy\, Sustainability\, Climate Actions”
DESCRIPTION:The US-ASEAN Internship Program-- a collaboration between US-ASEAN Connect and US-ASEAN Business Council\, is pleased to invite students and young professionals of Southeast Asia to hear discussions from a top US company and advocators on recent developments in sustainability\, circular economy\, and climate action. The webinar will offer exclusive insights on emerging career trends & opportunities\, knowledge\, and skill-sets needed for 'green' professions.\n\n\n\nPanelists include:\n\n	Bernie Baskin (Moderator)\, Senior Director of Development\, Sustainability\, and Energy at US-ASEAN Business Council\n	Dr. Nattavud Pimpa\, Former Acting Director of ASEAN Centre for Sustainable Development Studies and Dialogue (ACSDSD) and Chair in Sustainability at Mahidol University\n	Catherine Sheehy\, Global Lead for Sustainability Partnerships at Underwriters Laboratories (UL)\n	Tantrie Soetjipto\, Commissioner at Panin Dubai Syariah Bank and Founder of Roemah Indonesia\n\n\n\nThis event is free of charge! Certificate of attendance will be provided upon completion of survey at the end of the event.\n\n\n\nFor internship opportunities in the ASEAN region and further information on the US-ASEAN Internship Program\, visit https://internships.usasean.org/.
X-ALT-DESC;FMTTYPE=text/html:<br />\n<span style="font-family:arial\;">The US-ASEAN Internship Program-- a collaboration between US-ASEAN Connect and US-ASEAN Business Council\, is pleased to invite students and young professionals of Southeast Asia to hear discussions from a top US company and advocators on recent developments in sustainability\, circular economy\, and climate action. The webinar will offer exclusive insights on emerging career trends &amp\; opportunities\, knowledge\, and skill-sets needed for &#39\;green&#39\; professions.<br />\n<br />\n<span style="color: rgba(0\, 0\, 0\, 0.9)\; font-style: normal\; font-variant-ligatures: normal\; font-variant-caps: normal\; font-weight: 400\; letter-spacing: normal\; text-align: start\; text-indent: 0px\; text-transform: none\; white-space: pre-line\; word-spacing: 0px\; -webkit-text-stroke-width: 0px\; background-color: rgb(255\, 255\, 255)\; text-decoration-thickness: initial\; text-decoration-style: initial\; text-decoration-color: initial\; display: inline !important\; float: none\;">Panelists include:</span></span>\n<ul>\n	<li><span style="font-family:arial\;"><span style="color: rgba(0\, 0\, 0\, 0.9)\; font-style: normal\; font-variant-ligatures: normal\; font-variant-caps: normal\; font-weight: 400\; letter-spacing: normal\; text-align: start\; text-indent: 0px\; text-transform: none\; white-space: pre-line\; word-spacing: 0px\; -webkit-text-stroke-width: 0px\; background-color: rgb(255\, 255\, 255)\; text-decoration-thickness: initial\; text-decoration-style: initial\; text-decoration-color: initial\; display: inline !important\; float: none\;"><strong>Bernie Baskin</strong> (Moderator)\, Senior Director of Development\, Sustainability\, and Energy at US-ASEAN Business Council</span></span></li>\n	<li><span style="font-family:arial\;"><span style="color: rgba(0\, 0\, 0\, 0.9)\; font-style: normal\; font-variant-ligatures: normal\; font-variant-caps: normal\; font-weight: 400\; letter-spacing: normal\; text-align: start\; text-indent: 0px\; text-transform: none\; white-space: pre-line\; word-spacing: 0px\; -webkit-text-stroke-width: 0px\; background-color: rgb(255\, 255\, 255)\; text-decoration-thickness: initial\; text-decoration-style: initial\; text-decoration-color: initial\; display: inline !important\; float: none\;"><strong>Dr. Nattavud Pimpa</strong>\, Former Acting Director of ASEAN Centre for Sustainable Development Studies and Dialogue (ACSDSD) and Chair in Sustainability at Mahidol University</span></span></li>\n	<li><span style="font-family:arial\;"><span style="color: rgba(0\, 0\, 0\, 0.9)\; font-style: normal\; font-variant-ligatures: normal\; font-variant-caps: normal\; font-weight: 400\; letter-spacing: normal\; text-align: start\; text-indent: 0px\; text-transform: none\; white-space: pre-line\; word-spacing: 0px\; -webkit-text-stroke-width: 0px\; background-color: rgb(255\, 255\, 255)\; text-decoration-thickness: initial\; text-decoration-style: initial\; text-decoration-color: initial\; display: inline !important\; float: none\;"><strong>Catherine Sheehy</strong>\, Global Lead for Sustainability Partnerships at Underwriters Laboratories (UL)</span></span></li>\n	<li><span style="font-family:arial\;"><span style="color: rgba(0\, 0\, 0\, 0.9)\; font-style: normal\; font-variant-ligatures: normal\; font-variant-caps: normal\; font-weight: 400\; letter-spacing: normal\; text-align: start\; text-indent: 0px\; text-transform: none\; white-space: pre-line\; word-spacing: 0px\; -webkit-text-stroke-width: 0px\; background-color: rgb(255\, 255\, 255)\; text-decoration-thickness: initial\; text-decoration-style: initial\; text-decoration-color: initial\; display: inline !important\; float: none\;"><strong>Tantrie Soetjipto</strong>\, Commissioner at Panin Dubai Syariah Bank and Founder of Roemah Indonesia</span></span></li>\n</ul>\n<br />\n<span style="font-family:arial\;"><span style="color: rgba(0\, 0\, 0\, 0.9)\; font-style: normal\; font-variant-ligatures: normal\; font-variant-caps: normal\; font-weight: 400\; letter-spacing: normal\; text-align: start\; text-indent: 0px\; text-transform: none\; white-space: pre-line\; word-spacing: 0px\; -webkit-text-stroke-width: 0px\; background-color: rgb(255\, 255\, 255)\; text-decoration-thickness: initial\; text-decoration-style: initial\; text-decoration-color: initial\; display: inline !important\; float: none\;">This event is free of charge! Certificate of attendance will be provided upon completion of survey at the end of the event.</span><br style="box-sizing: inherit\; color: rgba(0\, 0\, 0\, 0.9)\; font-family: -apple-system\, system-ui\, BlinkMacSystemFont\, &quot\;Segoe UI&quot\;\, Roboto\, &quot\;Helvetica Neue&quot\;\, &quot\;Fira Sans&quot\;\, Ubuntu\, Oxygen\, &quot\;Oxygen Sans&quot\;\, Cantarell\, &quot\;Droid Sans&quot\;\, &quot\;Apple Color Emoji&quot\;\, &quot\;Segoe UI Emoji&quot\;\, &quot\;Segoe UI Emoji&quot\;\, &quot\;Segoe UI Symbol&quot\;\, &quot\;Lucida Grande&quot\;\, Helvetica\, Arial\, sans-serif\; font-size: 14px\; font-style: normal\; font-variant-ligatures: normal\; font-variant-caps: normal\; font-weight: 400\; letter-spacing: normal\; orphans: 2\; text-align: start\; text-indent: 0px\; text-transform: none\; white-space: pre-line\; widows: 2\; word-spacing: 0px\; -webkit-text-stroke-width: 0px\; background-color: rgb(255\, 255\, 255)\; text-decoration-thickness: initial\; text-decoration-style: initial\; text-decoration-color: initial\;" />\n<br style="box-sizing: inherit\; color: rgba(0\, 0\, 0\, 0.9)\; font-family: -apple-system\, system-ui\, BlinkMacSystemFont\, &quot\;Segoe UI&quot\;\, Roboto\, &quot\;Helvetica Neue&quot\;\, &quot\;Fira Sans&quot\;\, Ubuntu\, Oxygen\, &quot\;Oxygen Sans&quot\;\, Cantarell\, &quot\;Droid Sans&quot\;\, &quot\;Apple Color Emoji&quot\;\, &quot\;Segoe UI Emoji&quot\;\, &quot\;Segoe UI Emoji&quot\;\, &quot\;Segoe UI Symbol&quot\;\, &quot\;Lucida Grande&quot\;\, Helvetica\, Arial\, sans-serif\; font-size: 14px\; font-style: normal\; font-variant-ligatures: normal\; font-variant-caps: normal\; font-weight: 400\; letter-spacing: normal\; orphans: 2\; text-align: start\; text-indent: 0px\; text-transform: none\; white-space: pre-line\; widows: 2\; word-spacing: 0px\; -webkit-text-stroke-width: 0px\; background-color: rgb(255\, 255\, 255)\; text-decoration-thickness: initial\; text-decoration-style: initial\; text-decoration-color: initial\;" />\n<span style="color: rgba(0\, 0\, 0\, 0.9)\; font-style: normal\; font-variant-ligatures: normal\; font-variant-caps: normal\; font-weight: 400\; letter-spacing: normal\; text-align: start\; text-indent: 0px\; text-transform: none\; white-space: pre-line\; word-spacing: 0px\; -webkit-text-stroke-width: 0px\; background-color: rgb(255\, 255\, 255)\; text-decoration-thickness: initial\; text-decoration-style: initial\; text-decoration-color: initial\; display: inline !important\; float: none\;">For internship opportunities in the ASEAN region and further information on the US-ASEAN Internship Program\, visit https://internships.usasean.org/.</span></span>
LOCATION:Virtual bit.ly/USAIPSustainability
UID:e.9078.8631
SEQUENCE:3
DTSTAMP:20260419T124048Z
URL:http://memberzone.usasean.org/events/details/us-asean-internship-program-webinar-series-we-prosper-emerging-career-opportunities-in-circular-economy-sustainability-climate-actions-8631
END:VEVENT

END:VCALENDAR
