BEGIN:VCALENDAR
VERSION:2.0
PRODID:-//ChamberMaster//Event Calendar 2.0//EN
METHOD:PUBLISH
X-PUBLISHED-TTL:P3D
REFRESH-INTERVAL:P3D
CALSCALE:GREGORIAN
BEGIN:VEVENT
DTSTART:20240808T010000Z
DTEND:20240808T023000Z
X-MICROSOFT-CDO-ALLDAYEVENT:FALSE
SUMMARY:[US-ASEAN] 2nd Planning Call for DEMIND 2024 and Cybersecurity Workshop
DESCRIPTION:
X-ALT-DESC;FMTTYPE=text/html:
LOCATION:Zoom link will be provided upon registration
UID:e.9078.9339
SEQUENCE:3
DTSTAMP:20260420T145805Z
URL:http://memberzone.usasean.org/events/details/us-asean-2nd-planning-call-for-demind-2024-and-cybersecurity-workshop-9339
END:VEVENT

END:VCALENDAR
