BEGIN:VCALENDAR
VERSION:2.0
PRODID:-//ChamberMaster//Event Calendar 2.0//EN
METHOD:PUBLISH
X-PUBLISHED-TTL:P3D
REFRESH-INTERVAL:P3D
CALSCALE:GREGORIAN
BEGIN:VEVENT
DTSTART:20140306T203000Z
DTEND:20140306T220000Z
X-MICROSOFT-CDO-ALLDAYEVENT:FALSE
SUMMARY:US APEC Business Coalition Briefing
DESCRIPTION:The U.S. APEC Business Coalition would like to invite you to join members of the U.S. business community for a debriefing on the highlights and outcomes of the first Senior Officials' Meeting (SOM)\, which will take place on February 15-28 in Ningbo\, China.  \n\nPlease respond to Betsy Gass at programs@uschina.org with your name\, title and affiliation if you plan to attend.\n\n\n\nA teleconference number will be provided upon request.\n\n\n\nSpeakers will include:\n\n\n\n  Robert Wang\, U.S. Senior Official for APEC\, U.S. Department of State\n\n  Ed Brzytwa\, Director for APEC Affairs\, USTR\n\n  Monica Hardy Whaley\, President of the National Center for APEC
X-ALT-DESC;FMTTYPE=text/html:<span style="font-family:arial\,sans-serif\;"><span style="font-size:12.0pt\;">The U.S. APEC Business Coalition would like to invite you to join members of the U.S. business community for a debriefing on the highlights and <strong>outcomes of the first Senior Officials&#39\; Meeting (SOM)</strong>\, which will take place on February 15-28 in Ningbo\, China. &nbsp\;<br />\nPlease respond to&nbsp\;<span style="color:#404040\;">Betsy Gass at </span><a href="mailto:programs@uschina.org">programs@uschina.org</a>&nbsp\;with your name\, title and affiliation if you plan to attend.<br />\n<br />\nA teleconference number will be provided upon request.<br />\n<br />\nSpeakers will include:<br />\n<br />\n&bull\; Robert Wang\, U.S. Senior Official for APEC\, U.S. Department of State<br />\n&bull\; Ed Brzytwa\, Director for APEC Affairs\, USTR<br />\n&bull\; Monica Hardy Whaley\, President of the National Center for APEC</span></span><br />\n<br />\n&nbsp\;
LOCATION:Offices of Sidley Austin Conference Room 6E 1501 K Street Washington\, DC 20005
UID:e.9078.1072
SEQUENCE:3
DTSTAMP:20260420T192229Z
URL:http://memberzone.usasean.org/events/details/us-apec-business-coalition-briefing-03-06-2014-1072
END:VEVENT

END:VCALENDAR
