BEGIN:VCALENDAR
VERSION:2.0
PRODID:-//ChamberMaster//Event Calendar 2.0//EN
METHOD:PUBLISH
X-PUBLISHED-TTL:P3D
REFRESH-INTERVAL:P3D
CALSCALE:GREGORIAN
BEGIN:VEVENT
DTSTART:20210226T070000Z
DTEND:20210226T080000Z
X-MICROSOFT-CDO-ALLDAYEVENT:FALSE
SUMMARY:US-ABC Virtual Meeting with Secretary General Mira Tayyiba on KOMINFO Regulation 5/2020
DESCRIPTION:
X-ALT-DESC;FMTTYPE=text/html:
LOCATION:
UID:e.9078.8401
SEQUENCE:3
DTSTAMP:20260420T020821Z
URL:http://memberzone.usasean.org/events/details/us-abc-virtual-meeting-with-secretary-general-mira-tayyiba-on-kominfo-regulation-5-2020-8401
END:VEVENT

END:VCALENDAR
