BEGIN:VCALENDAR
VERSION:2.0
PRODID:-//ChamberMaster//Event Calendar 2.0//EN
METHOD:PUBLISH
X-PUBLISHED-TTL:P3D
REFRESH-INTERVAL:P3D
CALSCALE:GREGORIAN
BEGIN:VEVENT
DTSTART:20200617T020000Z
DTEND:20200617T030000Z
X-MICROSOFT-CDO-ALLDAYEVENT:FALSE
SUMMARY:US-ABC Virtual Meeting with Indonesia Financial Services Authority (OJK) on Financial Data Localization
DESCRIPTION:
X-ALT-DESC;FMTTYPE=text/html:
LOCATION:Zoom call
UID:e.9078.8220
SEQUENCE:3
DTSTAMP:20260420T140805Z
URL:http://memberzone.usasean.org/events/details/us-abc-virtual-meeting-with-indonesia-financial-services-authority-ojk-on-financial-data-localization-8220
END:VEVENT

END:VCALENDAR
