BEGIN:VCALENDAR
VERSION:2.0
PRODID:-//ChamberMaster//Event Calendar 2.0//EN
METHOD:PUBLISH
X-PUBLISHED-TTL:P3D
REFRESH-INTERVAL:P3D
CALSCALE:GREGORIAN
BEGIN:VEVENT
DTSTART:20221005T130000Z
DTEND:20221005T143000Z
X-MICROSOFT-CDO-ALLDAYEVENT:FALSE
SUMMARY:US-ABC & Stimson Center's Southeast Asia Forum Seminar the Indo-Pacific Economic Framework (IPEF) and America’s economic relationship with the ASEAN region
DESCRIPTION:The US-ASEAN Business Council and the Stimson Center's Southeast Asia Forum invite you to a seminar on the Indo-Pacific Economic Framework (IPEF) and America?s economic relationship with the ASEAN region. \n\n \n\nOctober 5\, Wednesday\, 9AM-1030AM Eastern Time\n\nOctober 5\, Wednesday\, 9PM-1030PM SGT/PHL Time\n\nHybrid event.  RSVP here by October 4\, Tuesday COB\n\n\n\nFollowing Indo-Pacific Economic Framework (IPEF) Ministerial in Los Angeles on September 8-9\, this timely seminar seeks to offer both information about IPEF and provide American and regional perspectives on the challenges and opportunities ahead for the IPEF negotiation process to generate mutually beneficial commercial opportunities and an expansion of economic ties between participating IPEF member nations. \n\n \n\nDraft Program\n\nWelcome remarks by Amb. Ted Osius\, US-ASEAN Business Council\n\nPanel 1 Introduction of the Moderator and Speakers\n\nPanel 1:  The Basic Components IPEF and ASEAN \n\n	Sarah Ellerman\, Assistant U.S. Trade Representative for Southeast Asia and the Pacific (Acting)\, United States Trade Representative (USTR) [confirmed]\n	Sharon Yuan\, Counselor and Chief Negotiator\, Indo-Pacific Economic Framework\, Office of the Undersecretary\, Department of Commerce [confirmed]\n\nPanel 1 Q&A\n\nPanel 2 Introduction of the Moderator and Speakers\n\nPanel 2: Perspectives on IPEF and US Economic Engagement with ASEAN\n\n\n	Amb. Michael Froman\, Vice Chairman and President\, Strategic Growth\, Mastercard [confirmed]\n	Matthew P. Goodman\, Senior Vice President for Economics\, Center for Strategic and International Studies CSIS [proposed]\n\nPanel 2 Q&A\n\nClosing remarks by Prof. Bill Wise\, Stimson Center\n\n\n\nFor questions\, please email our team.
X-ALT-DESC;FMTTYPE=text/html:<span style="font-family:arial\,sans-serif\;">The US-ASEAN Business Council and the Stimson Center's Southeast Asia Forum&nbsp\;</span><span style="font-family:arial\,sans-serif\;">invite you to a seminar on the Indo-Pacific Economic Framework (IPEF) and America?s economic relationship with the ASEAN region.&nbsp\;</span><br>\n&nbsp\;<br>\n<strong><span style="font-family:arial\,sans-serif\;">October 5\, Wednesday\, 9AM-1030AM Eastern Time</span></strong><br>\n<strong><span style="font-family:arial\,sans-serif\;">October 5\, Wednesday\, 9PM-1030PM SGT/PHL Time</span></strong><br>\n<strong><span style="font-family:arial\,sans-serif\;">Hybrid event. &nbsp\;</span></strong><a href="https://stimsoncenter.zoom.us/meeting/register/tZAqf-iprToqEtCB9GVESBXHjCd3xdNiKQF4"><strong><span style="font-family:arial\,sans-serif\;">RSVP here</span></strong></a><strong><span style="font-family:arial\,sans-serif\;"><a href="https://stimsoncenter.zoom.us/meeting/register/tZAqf-iprToqEtCB9GVESBXHjCd3xdNiKQF4"> </a>by October 4\, Tuesday COB</span></strong><br>\n<br>\n<span style="font-family:arial\,sans-serif\;">Following Indo-Pacific Economic Framework (IPEF) Ministerial in Los Angeles on September 8-9\, this timely seminar seeks to offer both information about IPEF and provide American and regional perspectives on the challenges and opportunities ahead for the IPEF negotiation process to generate mutually beneficial commercial opportunities and an expansion of economic ties between participating IPEF member nations.&nbsp\;</span><br>\n&nbsp\;<br>\n<strong><span style="font-family:arial\,sans-serif\;"><span style="font-size:12pt\;">Draft Program</span></span></strong><br>\n<span style="font-family:arial\,sans-serif\;">Welcome remarks by Amb. Ted Osius\, US-ASEAN Business Council</span><br>\n<span style="font-family:arial\,sans-serif\;">Panel 1 Introduction of the Moderator and Speakers</span><br>\n<span style="font-family:arial\,sans-serif\;">Panel 1: &nbsp\;The Basic Components IPEF and ASEAN&nbsp\;</span>\n<ul>\n	<li style="font-size:12pt\;font-family:Calibri\, sans-serif\;color:rgb(0\, 0\, 0)\;"><a href="https://ustr.gov/about-us/biographies-key-officials/sarah-ellerman-austr" style="color:rgb(5\, 99\, 193)\;"><span style="font-family:arial\,sans-serif\;">Sarah Ellerman</span></a><span style="font-family:arial\,sans-serif\;">\, </span><span style="background-image:initial\;background-position:initial\;background-size:initial\;background-repeat:initial\;background-attachment:initial\;background-origin:initial\;background-clip:initial\;"><span style="font-family:arial\,sans-serif\;">Assistant U.S. Trade Representative for Southeast Asia and the Pacific (Acting)\, </span></span><span style="font-family:arial\,sans-serif\;">United States Trade Representative (USTR) [confirmed]</span></li>\n	<li style="font-size:12pt\;font-family:Calibri\, sans-serif\;color:rgb(0\, 0\, 0)\;"><a href="https://www.trade.gov/biography/sharon-h-yuan" style="color:rgb(5\, 99\, 193)\;"><span style="font-family:arial\,sans-serif\;">Sharon Yuan</span></a><span style="font-family:arial\,sans-serif\;">\, </span><span style="font-family:arial\,sans-serif\;">Counselor and Chief Negotiator\, Indo-Pacific Economic Framework\, Office of the Undersecretary\, </span><span style="font-family:arial\,sans-serif\;">Department of Commerce [confirmed]</span></li>\n</ul>\n<span style="font-family:arial\,sans-serif\;">Panel 1 Q&amp\;A</span><br>\n<span style="font-family:arial\,sans-serif\;">Panel 2 Introduction of the Moderator and Speakers</span><br>\n<span style="font-family:arial\,sans-serif\;">Panel 2: Perspectives on IPEF and US Economic Engagement with ASEAN</span>\n\n<ul>\n	<li style="font-size:12pt\;font-family:Calibri\, sans-serif\;color:rgb(0\, 0\, 0)\;"><a href="https://www.mastercardcenter.org/our-team/michael-froman" style="color:rgb(5\, 99\, 193)\;"><span style="font-family:arial\,sans-serif\;">Amb. Michael Froman</span></a><span style="color:#4472c4\;"><span style="font-family:arial\,sans-serif\;">\, </span></span><span style="font-family:arial\,sans-serif\;">Vice Chairman and President\, Strategic Growth\, Mastercard [confirmed]</span></li>\n	<li style="font-size:12pt\;font-family:Calibri\, sans-serif\;color:rgb(0\, 0\, 0)\;"><a href="https://www.csis.org/people/matthew-p-goodman" style="color:rgb(5\, 99\, 193)\;"><span style="font-family:arial\,sans-serif\;">Matthew P. Goodman</span></a><span style="font-family:arial\,sans-serif\;">\, Senior Vice President for Economics\, Center for Strategic and International Studies CSIS [proposed]</span></li>\n</ul>\n<span style="font-family:arial\,sans-serif\;">Panel 2 Q&amp\;A</span><br>\n<span style="font-family:arial\,sans-serif\;">Closing remarks by Prof. Bill Wise\, Stimson Center<br>\n<br>\nFor questions\, please email our </span><a href="mailto:hwilliams@usasean.org\;%20lalmonte@usasean.org\;%20cweatherby@stimson.org" style="color:rgb(5\, 99\, 193)\;"><span style="font-family:arial\,sans-serif\;">team.</span></a><br>\n<br>\n&nbsp\;
LOCATION:In-person attendance on first come\, first served basis. Limited Seating at the Stimson Center\, 1211 Connecticut Ave NW\, 8th Floor\, Washington DC 20036. Event information and Zoom dial-in details will be provided to all registered participants.
UID:e.9078.8876
SEQUENCE:3
DTSTAMP:20260421T205425Z
URL:http://memberzone.usasean.org/events/details/us-abc-stimson-center-s-southeast-asia-forum-seminar-the-indo-pacific-economic-framework-ipef-and-america-s-economic-relationship-with-the-asean-region-8876
END:VEVENT

END:VCALENDAR
