BEGIN:VCALENDAR
VERSION:2.0
PRODID:-//ChamberMaster//Event Calendar 2.0//EN
METHOD:PUBLISH
X-PUBLISHED-TTL:P3D
REFRESH-INTERVAL:P3D
CALSCALE:GREGORIAN
BEGIN:VEVENT
DTSTART:20211020T120000Z
DTEND:20211020T130000Z
X-MICROSOFT-CDO-ALLDAYEVENT:FALSE
SUMMARY:US-ABC Nominating Committee Meeting
DESCRIPTION:Meeting of the US-ASEAN Business Council Nominating Committee
X-ALT-DESC;FMTTYPE=text/html:Meeting of the US-ASEAN Business Council&nbsp\;Nominating Committee
LOCATION:via Zoom teleconference
UID:e.9078.8609
SEQUENCE:3
DTSTAMP:20260419T124023Z
URL:http://memberzone.usasean.org/events/details/us-abc-nominating-committee-meeting-8609
END:VEVENT

END:VCALENDAR
