BEGIN:VCALENDAR
VERSION:2.0
PRODID:-//ChamberMaster//Event Calendar 2.0//EN
METHOD:PUBLISH
X-PUBLISHED-TTL:P3D
REFRESH-INTERVAL:P3D
CALSCALE:GREGORIAN
BEGIN:VEVENT
DTSTART:20200312T020000Z
DTEND:20200312T040000Z
X-MICROSOFT-CDO-ALLDAYEVENT:FALSE
SUMMARY:US-ABC Members Meeting on Indonesia E-Commerce Implementing Regulation
DESCRIPTION:
X-ALT-DESC;FMTTYPE=text/html:
LOCATION:US-ABC Jakarta Office Menara Astra Meeting Room: TBC Jl. Jenderal Sudirman Kav. 5 Jakarta\, Indonesia\, 10220
UID:e.9078.8162
SEQUENCE:3
DTSTAMP:20260424T055212Z
URL:http://memberzone.usasean.org/events/details/us-abc-members-meeting-on-indonesia-e-commerce-implementing-regulation-8162
END:VEVENT

END:VCALENDAR
