BEGIN:VCALENDAR
VERSION:2.0
PRODID:-//ChamberMaster//Event Calendar 2.0//EN
METHOD:PUBLISH
X-PUBLISHED-TTL:P3D
REFRESH-INTERVAL:P3D
CALSCALE:GREGORIAN
BEGIN:VEVENT
DTSTART:20210114T080000Z
DTEND:20210114T093000Z
X-MICROSOFT-CDO-ALLDAYEVENT:FALSE
SUMMARY:US-ABC FGD Series on Omnibus Law Draft Implementing Regulations: Labor
DESCRIPTION:
X-ALT-DESC;FMTTYPE=text/html:
LOCATION:
UID:e.9078.8366
SEQUENCE:3
DTSTAMP:20260420T033445Z
URL:http://memberzone.usasean.org/events/details/us-abc-fgd-series-on-omnibus-law-draft-implementing-regulations-labor-8366
END:VEVENT

END:VCALENDAR
