BEGIN:VCALENDAR
VERSION:2.0
PRODID:-//ChamberMaster//Event Calendar 2.0//EN
METHOD:PUBLISH
X-PUBLISHED-TTL:P3D
REFRESH-INTERVAL:P3D
CALSCALE:GREGORIAN
BEGIN:VEVENT
DTSTART:20210125T080000Z
DTEND:20210125T090000Z
X-MICROSOFT-CDO-ALLDAYEVENT:FALSE
SUMMARY:US-ABC Discussion on Indonesia BPS (Statistics Indonesia) Draft Regulation on E-Commerce Data and Information Submission
DESCRIPTION:
X-ALT-DESC;FMTTYPE=text/html:
LOCATION:
UID:e.9078.8376
SEQUENCE:3
DTSTAMP:20260420T033250Z
URL:http://memberzone.usasean.org/events/details/us-abc-discussion-on-indonesia-bps-statistics-indonesia-draft-regulation-on-e-commerce-data-and-information-submission-8376
END:VEVENT

END:VCALENDAR
