BEGIN:VCALENDAR
VERSION:2.0
PRODID:-//ChamberMaster//Event Calendar 2.0//EN
METHOD:PUBLISH
X-PUBLISHED-TTL:P3D
REFRESH-INTERVAL:P3D
CALSCALE:GREGORIAN
BEGIN:VEVENT
DTSTART:20200911T020000Z
DTEND:20200911T030000Z
X-MICROSOFT-CDO-ALLDAYEVENT:FALSE
SUMMARY:US-ABC Discussion Meeting on Vietnam Draft Implementing Decree of the Law on Cybersecurity
DESCRIPTION:
X-ALT-DESC;FMTTYPE=text/html:
LOCATION:
UID:e.9078.8287
SEQUENCE:3
DTSTAMP:20260420T113735Z
URL:http://memberzone.usasean.org/events/details/us-abc-discussion-meeting-on-vietnam-draft-implementing-decree-of-the-law-on-cybersecurity-8287
END:VEVENT

END:VCALENDAR
