BEGIN:VCALENDAR
VERSION:2.0
PRODID:-//ChamberMaster//Event Calendar 2.0//EN
METHOD:PUBLISH
X-PUBLISHED-TTL:P3D
REFRESH-INTERVAL:P3D
CALSCALE:GREGORIAN
BEGIN:VEVENT
DTSTART:20200923T010000Z
DTEND:20200923T020000Z
X-MICROSOFT-CDO-ALLDAYEVENT:FALSE
SUMMARY:US-ABC Discussion Meeting on the Philippines Digital Transaction Act
DESCRIPTION:
X-ALT-DESC;FMTTYPE=text/html:
LOCATION:
UID:e.9078.8298
SEQUENCE:3
DTSTAMP:20260420T095520Z
URL:http://memberzone.usasean.org/events/details/us-abc-discussion-meeting-on-the-philippines-digital-transaction-act-8298
END:VEVENT

END:VCALENDAR
