BEGIN:VCALENDAR
VERSION:2.0
PRODID:-//ChamberMaster//Event Calendar 2.0//EN
METHOD:PUBLISH
X-PUBLISHED-TTL:P3D
REFRESH-INTERVAL:P3D
CALSCALE:GREGORIAN
BEGIN:VEVENT
DTSTART:20200508T010000Z
DTEND:20200508T020000Z
X-MICROSOFT-CDO-ALLDAYEVENT:FALSE
SUMMARY:US-ABC Discussion Call on Indonesia Financial Services Regulations Related to GR 71/ 2019
DESCRIPTION:
X-ALT-DESC;FMTTYPE=text/html:
LOCATION:
UID:e.9078.8188
SEQUENCE:3
DTSTAMP:20260420T160116Z
URL:http://memberzone.usasean.org/events/details/us-abc-discussion-call-on-indonesia-financial-services-regulations-related-to-gr-71-2019-8188
END:VEVENT

END:VCALENDAR
