BEGIN:VCALENDAR
VERSION:2.0
PRODID:-//ChamberMaster//Event Calendar 2.0//EN
METHOD:PUBLISH
X-PUBLISHED-TTL:P3D
REFRESH-INTERVAL:P3D
CALSCALE:GREGORIAN
BEGIN:VEVENT
DTSTART:20210226T010000Z
DTEND:20210226T020000Z
X-MICROSOFT-CDO-ALLDAYEVENT:FALSE
SUMMARY:US-ABC Compensation Committee Meeting
DESCRIPTION:Meeting of the US-ASEAN Business Council Compensation Committee
X-ALT-DESC;FMTTYPE=text/html:<span style="font-size: 14px\;"><span style="font-family: arial\;">Meeting of the US-ASEAN Business Council Compensation Committee</span></span>
LOCATION:via teleconference
UID:e.9078.8381
SEQUENCE:3
DTSTAMP:20260420T020211Z
URL:http://memberzone.usasean.org/events/details/us-abc-compensation-committee-meeting-8381
END:VEVENT

END:VCALENDAR
