BEGIN:VCALENDAR
VERSION:2.0
PRODID:-//ChamberMaster//Event Calendar 2.0//EN
METHOD:PUBLISH
X-PUBLISHED-TTL:P3D
REFRESH-INTERVAL:P3D
CALSCALE:GREGORIAN
BEGIN:VEVENT
DTSTART:20180607T123000Z
DTEND:20180607T143000Z
X-MICROSOFT-CDO-ALLDAYEVENT:FALSE
SUMMARY:US-ABC Chairman's Council Advisory Group Meeting
DESCRIPTION:Meeting of the US-ASEAN Business Council Chairman's Council Advisory Group
X-ALT-DESC;FMTTYPE=text/html:Meeting of the US-ASEAN Business Council Chairman&#39\;s Council Advisory Group
LOCATION:The Hills Room US-ASEAN Business Council 1101 17th Street\, NW\, Suite 411 Washington\, DC + via teleconference
UID:e.9078.7637
SEQUENCE:3
DTSTAMP:20260420T014131Z
URL:http://memberzone.usasean.org/events/details/us-abc-chairman-s-council-advisory-group-meeting-7637
END:VEVENT

END:VCALENDAR
