BEGIN:VCALENDAR
VERSION:2.0
PRODID:-//ChamberMaster//Event Calendar 2.0//EN
METHOD:PUBLISH
X-PUBLISHED-TTL:P3D
REFRESH-INTERVAL:P3D
CALSCALE:GREGORIAN
BEGIN:VEVENT
DTSTART:20211130T210000Z
DTEND:20211130T220000Z
X-MICROSOFT-CDO-ALLDAYEVENT:FALSE
SUMMARY:US-ABC and U.S. Chamber Joint Virtual Roundtable with The Honorable Jonathan Kaplan\, United States Ambassador to Singapore
DESCRIPTION:Joint Virtual Meeting of the US-ASEAN Business Council and the U.S. Chamber of Commerce with The Honorable Jonathan Kaplan\, United States Ambassador to Singapore. This is off-the-record and by-invitation only. Please note that this joint virtual roundtable will be held in lieu of the canceled hybrid event at 10AM-11AM Eastern Time/11PM-12 midnight SGT.
X-ALT-DESC;FMTTYPE=text/html:Joint Virtual Meeting of the US-ASEAN Business Council and the U.S. Chamber of Commerce with The Honorable Jonathan Kaplan\, United States Ambassador to Singapore. This is off-the-record and by-invitation only. Please note that this joint virtual roundtable will be held in lieu of the canceled hybrid event at 10AM-11AM Eastern Time/11PM-12 midnight SGT.
LOCATION:Microsoft Teams Only members who register will receive the link.
UID:e.9078.8657
SEQUENCE:3
DTSTAMP:20260419T124311Z
URL:http://memberzone.usasean.org/events/details/us-abc-and-u-s-chamber-joint-virtual-roundtable-with-the-honorable-jonathan-kaplan-united-states-ambassador-to-singapore-8657
END:VEVENT

END:VCALENDAR
