BEGIN:VCALENDAR
VERSION:2.0
PRODID:-//ChamberMaster//Event Calendar 2.0//EN
METHOD:PUBLISH
X-PUBLISHED-TTL:P3D
REFRESH-INTERVAL:P3D
CALSCALE:GREGORIAN
BEGIN:VEVENT
DTSTART;VALUE=DATE:20131118
DTEND;VALUE=DATE:20131121
TRANSP:TRANSPARENT
X-MICROSOFT-CDO-ALLDAYEVENT:TRUE
SUMMARY:Unconventional Gas Asia Summit Indonesia 2013
DESCRIPTION:The UGAS Indonesia 2013\, in Indonesia is scheduled on November 18-20\, 2013. The main motivation behind this conference is for unconventional gas practitioners to learn from each other in terms of E&P technology implementation. \n\n	\n\n	To learn more visit the UGAS Indonesia 2013 website.
X-ALT-DESC;FMTTYPE=text/html:<div>\n	The UGAS Indonesia 2013\, in Indonesia is scheduled on November 18-20\, 2013. The main motivation behind this conference is for unconventional gas practitioners to learn from each other in terms of E&amp\;P technology implementation.&nbsp\;</div>\n<div>\n	<br />\n	To learn more visit the <a href="http://www.szwgroup.com/ugasindonesia2013/pro_wel.asp">UGAS Indonesia 2013 website</a>.&nbsp\;<br />\n	&nbsp\;</div>\n<div>\n	&nbsp\;</div>\n<div>\n	&nbsp\;</div>\n
LOCATION:Jakarta\, Indonesia
UID:e.9078.875
SEQUENCE:3
DTSTAMP:20260421T093406Z
URL:http://memberzone.usasean.org/events/details/unconventional-gas-asia-summit-indonesia-2013-11-18-2013-875
END:VEVENT

END:VCALENDAR
