BEGIN:VCALENDAR
VERSION:2.0
PRODID:-//ChamberMaster//Event Calendar 2.0//EN
METHOD:PUBLISH
X-PUBLISHED-TTL:P3D
REFRESH-INTERVAL:P3D
CALSCALE:GREGORIAN
BEGIN:VEVENT
DTSTART;VALUE=DATE:20141022
DTEND;VALUE=DATE:20141024
TRANSP:TRANSPARENT
X-MICROSOFT-CDO-ALLDAYEVENT:TRUE
SUMMARY:U.S. Business Mission to Yogyakarta Led by U.S. Ambassador to Indonesia Robert Blake
DESCRIPTION:As part of an ongoing effort to increase US-Indonesian economic cooperations\, the US Ambassador to Indonesia\, HE Robert O Blake\, is conducting business outreach missions to several cities in Indonesia\, including to Yogyakarta on October 22-23. During the missions the Ambassador will bring delegations of US company representatives to give them opportunity to deepen their relationship with local governments as well as local business associations. The mission to Yogyakarta will provide companies with the opportunity to strengthen key local resources through several group meetings with Yogyakarta Governor\, KADIN and HIPMI.
X-ALT-DESC;FMTTYPE=text/html:As part of an ongoing effort to increase US-Indonesian economic cooperations\, the US Ambassador to Indonesia\, HE Robert O Blake\, is conducting business outreach missions to several cities in Indonesia\, including to Yogyakarta on October 22-23. During the missions the Ambassador will bring delegations of US company representatives to give them opportunity to deepen their relationship with local governments as well as local business associations. The mission to Yogyakarta will provide companies with the opportunity to strengthen key local resources through several group meetings with Yogyakarta Governor\, KADIN and HIPMI.
LOCATION:Yogyakarta\, Indonesia.
UID:e.9078.1287
SEQUENCE:3
DTSTAMP:20260420T035156Z
URL:http://memberzone.usasean.org/events/details/u-s-business-mission-to-yogyakarta-led-by-u-s-ambassador-to-indonesia-robert-blake-10-22-2014-1287
END:VEVENT

END:VCALENDAR
