BEGIN:VCALENDAR
VERSION:2.0
PRODID:-//ChamberMaster//Event Calendar 2.0//EN
METHOD:PUBLISH
X-PUBLISHED-TTL:P3D
REFRESH-INTERVAL:P3D
CALSCALE:GREGORIAN
BEGIN:VEVENT
DTSTART;VALUE=DATE:20150129
DTEND;VALUE=DATE:20150130
TRANSP:TRANSPARENT
X-MICROSOFT-CDO-ALLDAYEVENT:TRUE
SUMMARY:U.S. Business Mission to Batam Led by U.S. Ambassador to Indonesia Robert Blake
DESCRIPTION:As part of an ongoing effort to increase US-Indonesian economic cooperations\, the US Ambassador to Indonesia\, HE Robert O. Blake\, is conducting business outreach missions to several cities in Indonesia\, including to Batam on January 29\, 2015. In Batam\, Ambassador Blake will lead the delegation of U.S. companies in meetings and other events with regional government and business leadrers to learn about trade and investment opportunities in the Batam Free Trade Zone area and the broader Kepulauan Riau Province. In addition\, delegates can participate in a U.S. Commercial Service-led "Doing Business with the USA" seminar for the local Batam business community\, site visits to Batam's leading industrial estates\, and an evening networking reception.
X-ALT-DESC;FMTTYPE=text/html:As part of an ongoing effort to increase US-Indonesian economic cooperations\, the US Ambassador to Indonesia\, HE Robert O. Blake\, is conducting business outreach missions to several cities in Indonesia\, including to Batam on January 29\, 2015.&nbsp\;In Batam\, Ambassador Blake will lead the delegation of U.S. companies in meetings and other events with regional government and business leadrers to learn about trade and investment opportunities in the Batam Free Trade Zone area and the broader Kepulauan Riau Province. In addition\, delegates can participate in a U.S. Commercial Service-led &ldquo\;Doing Business with the USA&rdquo\; seminar for the local Batam business community\, site visits to Batam&rsquo\;s leading industrial estates\, and an evening networking reception.
LOCATION:Batam\, Indonesia.
UID:e.9078.1339
SEQUENCE:3
DTSTAMP:20260419T222330Z
URL:http://memberzone.usasean.org/events/details/u-s-business-mission-to-batam-led-by-u-s-ambassador-to-indonesia-robert-blake-01-29-2015-1339
END:VEVENT

END:VCALENDAR
