BEGIN:VCALENDAR
VERSION:2.0
PRODID:-//ChamberMaster//Event Calendar 2.0//EN
METHOD:PUBLISH
X-PUBLISHED-TTL:P3D
REFRESH-INTERVAL:P3D
CALSCALE:GREGORIAN
BEGIN:VEVENT
DTSTART;VALUE=DATE:20140222
DTEND;VALUE=DATE:20140226
TRANSP:TRANSPARENT
X-MICROSOFT-CDO-ALLDAYEVENT:TRUE
SUMMARY:TPP Ministerial
DESCRIPTION:TPP Ministerial
X-ALT-DESC;FMTTYPE=text/html:TPP Ministerial
LOCATION:Singapore
UID:e.9078.1041
SEQUENCE:3
DTSTAMP:20260421T042531Z
URL:http://memberzone.usasean.org/events/details/tpp-ministerial-02-22-2014-1041
END:VEVENT

END:VCALENDAR
