BEGIN:VCALENDAR
VERSION:2.0
PRODID:-//ChamberMaster//Event Calendar 2.0//EN
METHOD:PUBLISH
X-PUBLISHED-TTL:P3D
REFRESH-INTERVAL:P3D
CALSCALE:GREGORIAN
BEGIN:VEVENT
DTSTART:20130606T150000Z
DTEND:20130606T160000Z
X-MICROSOFT-CDO-ALLDAYEVENT:FALSE
SUMMARY:TPP Lima Round - ICT Sector debrief with Jonathan McHale\, Deputy Assistant USTR for Telecommunications Policy
DESCRIPTION:The US-ASEAN Business Council will be hosting a debrief with Jonathan McHale\, Deputy Assistant USTR for Telecommunications Policy. McHale will debrief the Council's ICT Working Group on the TPP Lima Round negotiations.
X-ALT-DESC;FMTTYPE=text/html:The US-ASEAN Business Council will be hosting a debrief with Jonathan McHale\, Deputy Assistant USTR for Telecommunications Policy. McHale will debrief the Council&#39\;s ICT Working Group on the TPP Lima Round negotiations.
LOCATION:USTR Annex Building\, 2nd Floor Conference Room
UID:e.9078.794
SEQUENCE:3
DTSTAMP:20260421T222733Z
URL:http://memberzone.usasean.org/events/details/tpp-lima-round-ict-sector-debrief-with-jonathan-mchale-deputy-assistant-ustr-for-telecommunications-policy-06-06-2013-794
END:VEVENT

END:VCALENDAR
