BEGIN:VCALENDAR
VERSION:2.0
PRODID:-//ChamberMaster//Event Calendar 2.0//EN
METHOD:PUBLISH
X-PUBLISHED-TTL:P3D
REFRESH-INTERVAL:P3D
CALSCALE:GREGORIAN
BEGIN:VEVENT
DTSTART:20140325T010000Z
DTEND:20140325T020000Z
X-MICROSOFT-CDO-ALLDAYEVENT:FALSE
SUMMARY:Third Conference Call to Discuss the 2014 ASEAN Finance Ministers' Meeting Business Mission
DESCRIPTION:Third Conference Call to Discuss the 2014 ASEAN Finance Ministers' Meeting Business Mission
X-ALT-DESC;FMTTYPE=text/html:<span style="font-family: arial\; font-size: 14px\; letter-spacing: 1px\; line-height: 22.399999618530273px\;">Third Conference Call to Discuss the 2014 ASEAN Finance Ministers&#39\; Meeting Business Mission</span>
LOCATION:
UID:e.9078.1092
SEQUENCE:3
DTSTAMP:20260420T172025Z
URL:http://memberzone.usasean.org/events/details/third-conference-call-to-discuss-the-2014-asean-finance-ministers-meeting-business-mission-03-24-2014-1092
END:VEVENT

END:VCALENDAR
