BEGIN:VCALENDAR
VERSION:2.0
PRODID:-//ChamberMaster//Event Calendar 2.0//EN
METHOD:PUBLISH
X-PUBLISHED-TTL:P3D
REFRESH-INTERVAL:P3D
CALSCALE:GREGORIAN
BEGIN:VEVENT
DTSTART;VALUE=DATE:20140115
DTEND;VALUE=DATE:20140116
TRANSP:TRANSPARENT
X-MICROSOFT-CDO-ALLDAYEVENT:TRUE
SUMMARY:The Economist's Indonesia Summit
DESCRIPTION:With parliamentary and presidential elections due\, 2014 will be decisive in Indonesia. The country is now a mature democracy\, but many believe reform has stalled. Indonesia has survived the global financial troubles of the past half decade relatively unscathed\, but infrastructure bottlenecks and regulatory hurdles hamper the country's economic potential. Whoever takes office in 2014 will have a big job on their hands.\n\n \n\nAt this critical point\, The Economist will convene a high-level gathering of political leaders\, policymakers\, academics and senior business executives to discuss what Indonesia needs in 2014.\n\n \n\nMarty Natelagawa\, Minister of Foreign Affairs\, Government of Indonesia is a confirmed keynote speaker.\n\n \n\nCritical issues to be examined include\n\n  What Indonesia needs now the view from Jakarta \n\n  Indonesia and the world\n\n  Education and civil society: Report from the front line\n\n  Indonesia's infrastructure challenge\n\n  Eastern Indonesia
X-ALT-DESC;FMTTYPE=text/html:<span style="font-family:verdana\,sans-serif\;"><span style="font-size:7.5pt\;">With parliamentary and presidential elections due\, 2014 will be decisive in Indonesia. The country is now a mature democracy\, but many believe reform has stalled. Indonesia has survived the global financial troubles of the past half decade relatively unscathed\, but infrastructure bottlenecks and regulatory hurdles hamper the country&#39\;s economic potential. Whoever takes office in 2014 will have a big job on their hands.</span></span><br />\n&nbsp\;<br />\n<span style="font-family:verdana\,sans-serif\;"><span style="font-size:7.5pt\;">At this critical point\, <em>The Economist </em>will convene a high-level gathering of political leaders\, policymakers\, academics and senior business executives to discuss what Indonesia needs in 2014.</span></span><br />\n&nbsp\;<br />\n<strong><span style="font-family:verdana\,sans-serif\;"><span style="font-size:7.5pt\;">Marty Natelagawa\, Minister of Foreign Affairs\, Government of Indonesia is a confirmed keynote speaker.</span></span></strong><br />\n&nbsp\;<br />\n<strong><span style="color:#cc213d\;"><span style="font-family:verdana\,sans-serif\;"><span style="font-size:7.5pt\;">Critical issues to be examined include</span></span></span></strong><br />\n<span style="font-family:verdana\,sans-serif\;"><span style="font-size:7.5pt\;">&bull\; What Indonesia needs now&mdash\;the view from Jakarta&nbsp\;</span></span><br />\n<span style="font-family:verdana\,sans-serif\;"><span style="font-size:7.5pt\;">&bull\; Indonesia and the world</span></span><br />\n<span style="font-family:verdana\,sans-serif\;"><span style="font-size:7.5pt\;">&bull\; Education and civil society: Report from the front line</span></span><br />\n<span style="font-family:verdana\,sans-serif\;"><span style="font-size:7.5pt\;">&bull\; Indonesia&#39\;s infrastructure challenge</span></span><br />\n<span style="font-family:verdana\,sans-serif\;"><span style="font-size:7.5pt\;">&bull\; Eastern Indonesia</span></span><br />\n&nbsp\;
LOCATION:Jakarta\, Indonesia
UID:e.9078.935
SEQUENCE:3
DTSTAMP:20260421T060539Z
URL:http://memberzone.usasean.org/events/details/the-economist-s-indonesia-summit-01-15-2014-935
END:VEVENT

END:VCALENDAR
