BEGIN:VCALENDAR
VERSION:2.0
PRODID:-//ChamberMaster//Event Calendar 2.0//EN
METHOD:PUBLISH
X-PUBLISHED-TTL:P3D
REFRESH-INTERVAL:P3D
CALSCALE:GREGORIAN
BEGIN:VEVENT
DTSTART:20141010T000000Z
DTEND:20141010T020000Z
X-MICROSOFT-CDO-ALLDAYEVENT:FALSE
SUMMARY:The Asia Foundation\, World Affairs Council of Northern California and Asia Society Host the U.S. Ambassadors to Singapore\, Indonesia\, Malaysia and Cambodia
DESCRIPTION:Join the Asia Foundation\, World Affairs Council and Asia Society at a reception and panel discussion welcoming the current U.S. Ambassadors to Singapore\, Indonesia\, Malaysia and Cambodia.  An invitation to the event can be found here.  Please contact the Asia Foundation for registration.
X-ALT-DESC;FMTTYPE=text/html:Join the Asia Foundation\, World Affairs Council and Asia Society at a reception and panel discussion welcoming the current U.S. Ambassadors to Singapore\, Indonesia\, Malaysia and Cambodia. &nbsp\;An invitation to the event can be found <a href="http://cloud.chambermaster.com/userfiles/UserFiles/chambers/9078/File/InvitationtoUS-ASEANevent.pdf">here</a>. &nbsp\;Please contact the Asia Foundation for registration.
LOCATION:The Asia Foundation's Haydn Williams Room Merchants Exchange Building 465 California Street\, 8th Floor San Francisco\, CA 94104
UID:e.9078.1280
SEQUENCE:3
DTSTAMP:20260420T035209Z
URL:http://memberzone.usasean.org/events/details/the-asia-foundation-world-affairs-council-of-northern-california-and-asia-society-host-the-u-s-ambassadors-to-singapore-indonesia-malaysia-and-cambodia-10-09-2014-1280
END:VEVENT

END:VCALENDAR
