BEGIN:VCALENDAR
VERSION:2.0
PRODID:-//ChamberMaster//Event Calendar 2.0//EN
METHOD:PUBLISH
X-PUBLISHED-TTL:P3D
REFRESH-INTERVAL:P3D
CALSCALE:GREGORIAN
BEGIN:VEVENT
DTSTART;VALUE=DATE:20191009
DTEND;VALUE=DATE:20191010
TRANSP:TRANSPARENT
X-MICROSOFT-CDO-ALLDAYEVENT:TRUE
SUMMARY:The 5th Annual AVCJ Philippines Forum
DESCRIPTION:AVCJ Philippines Forum now in its 5th year is the longest running private markets forum where international investors and local fund managers gather to discuss the opportunities and challenges for investors in this nascent but compelling market\n\n\n\nThe forum is the ideal platform to exchange ideas\, meet future business partners and\n\ncatch up on the latest trends affecting the industry.
X-ALT-DESC;FMTTYPE=text/html:<center style="box-sizing: inherit\; color: rgb(66\, 66\, 66)\; font-family: Lato\, sans-serif\; font-size: 22px\; text-align: left\;"><span style="font-size:14px\;"><span style="font-family:arial\;">AVCJ Philippines Forum now in its 5th year is the longest running private markets forum where international investors and local fund managers gather to discuss the opportunities and challenges for investors in this nascent but compelling market</span></span></center>\n\n<center style="box-sizing: inherit\; color: rgb(66\, 66\, 66)\; font-family: Lato\, sans-serif\; font-size: 22px\; text-align: left\;"><br />\n<span style="font-size:14px\;"><span style="font-family:arial\;">The forum is the ideal platform to exchange ideas\, meet future business partners and<br />\ncatch up on the latest trends affecting the industry.</span></span></center>\n
LOCATION:Fairmont Makati Hotel\, Manila
UID:e.9078.8013
SEQUENCE:3
DTSTAMP:20260424T212552Z
URL:http://memberzone.usasean.org/events/details/the-5th-annual-avcj-philippines-forum-8013
END:VEVENT

END:VCALENDAR
