BEGIN:VCALENDAR
VERSION:2.0
PRODID:-//ChamberMaster//Event Calendar 2.0//EN
METHOD:PUBLISH
X-PUBLISHED-TTL:P3D
REFRESH-INTERVAL:P3D
CALSCALE:GREGORIAN
BEGIN:VEVENT
DTSTART:20210323T050000Z
DTEND:20210323T080000Z
X-MICROSOFT-CDO-ALLDAYEVENT:FALSE
SUMMARY:The 2nd LNG & Clean Energy Investment Summit
DESCRIPTION:Given the growing demand for energy to spur economic growth   in addition to the indigenous fuel from the Malampaya gas field projected to deplete and its franchise about to expire   the Philippines has been underscoring the need for big-ticket LNG infrastructure project to import natural gas\, with the aim of diversifying its energy mix and ensuring the country's long-term energy security.\n\n \n\nThe 2nd LNG & Clean Energy Investment Summit is the Philippines first virtually integrated LNG and Clean Energy event where more than 200 leading industry executives and experts gather to address a common goal: expansion of the LNG and Clean Energy industries in the Philippines.
X-ALT-DESC;FMTTYPE=text/html:<p class="x_MsoNormal" style="margin: 0cm 0cm 0.0001pt\; font-size: 11pt\; font-family: Calibri\, sans-serif\; color: rgb(32\, 31\, 30)\; text-align: justify\;"><span style="margin: 0px\; padding: 0px\; border: 0px\; font-style: inherit\; font-variant: inherit\; font-weight: inherit\; font-stretch: inherit\; font-size: 10pt\; line-height: inherit\; font-family: Arial\, sans-serif\; vertical-align: baseline\; color: inherit\;">Given the growing demand for energy to spur economic growth &ndash\; in addition to the indigenous fuel from the Malampaya gas field projected to deplete and its franchise about to expire &ndash\; the Philippines has been underscoring the need for big-ticket LNG infrastructure project to import natural gas\, with the aim of diversifying its energy mix and ensuring the country&rsquo\;s long-term energy security.</span></p>\n\n<p class="x_MsoNormal" style="margin: 0cm 0cm 0.0001pt\; font-size: 11pt\; font-family: Calibri\, sans-serif\; color: rgb(32\, 31\, 30)\;"><span style="margin: 0px\; padding: 0px\; border: 0px\; font-style: inherit\; font-variant: inherit\; font-weight: inherit\; font-stretch: inherit\; font-size: 10pt\; line-height: inherit\; font-family: Arial\, sans-serif\; vertical-align: baseline\; color: inherit\;">&nbsp\;</span></p>\n\n<p class="x_MsoNormal" style="margin: 0cm 0cm 0.0001pt\; font-size: 11pt\; font-family: Calibri\, sans-serif\; color: rgb(32\, 31\, 30)\; text-align: justify\;"><span style="margin: 0px\; padding: 0px\; border: 0px\; font-style: inherit\; font-variant: inherit\; font-weight: inherit\; font-stretch: inherit\; font-size: 10pt\; line-height: inherit\; font-family: Arial\, sans-serif\; vertical-align: baseline\; color: inherit\;">The 2<sup>nd</sup>&nbsp\;LNG &amp\; Clean Energy Investment Summit is the Philippines first virtually integrated LNG and Clean Energy event where more than 200 leading industry executives and experts gather to address a common goal: expansion of the LNG and Clean Energy industries in the Philippines.</span></p>\n
LOCATION:
UID:e.9078.8397
SEQUENCE:3
DTSTAMP:20260420T001021Z
URL:http://memberzone.usasean.org/events/details/the-2nd-lng-clean-energy-investment-summit-8397
END:VEVENT

END:VCALENDAR
