BEGIN:VCALENDAR
VERSION:2.0
PRODID:-//ChamberMaster//Event Calendar 2.0//EN
METHOD:PUBLISH
X-PUBLISHED-TTL:P3D
REFRESH-INTERVAL:P3D
CALSCALE:GREGORIAN
BEGIN:VEVENT
DTSTART;VALUE=DATE:20111208
DTEND;VALUE=DATE:20111209
TRANSP:TRANSPARENT
X-MICROSOFT-CDO-ALLDAYEVENT:TRUE
SUMMARY:Thailand Committee Conference Call on the 2012 Work Plan - Dec 8 2011
DESCRIPTION:
X-ALT-DESC;FMTTYPE=text/html:
LOCATION:
UID:e.9078.566
SEQUENCE:3
DTSTAMP:20260425T120918Z
URL:http://memberzone.usasean.org/events/details/thailand-committee-conference-call-on-the-2012-work-plan-dec-8-2011-12-08-2011-566
END:VEVENT

END:VCALENDAR
