BEGIN:VCALENDAR
VERSION:2.0
PRODID:-//ChamberMaster//Event Calendar 2.0//EN
METHOD:PUBLISH
X-PUBLISHED-TTL:P3D
REFRESH-INTERVAL:P3D
CALSCALE:GREGORIAN
BEGIN:VEVENT
DTSTART:20210317T020000Z
DTEND:20210317T030000Z
X-MICROSOFT-CDO-ALLDAYEVENT:FALSE
SUMMARY:Thailand Committee Call with CDA Michael Heath
DESCRIPTION:Thailand Committee Call with a briefing by Mr. Michael Heath\, Charge d'Affaires a.i. of the U.S. Mission in Thailand
X-ALT-DESC;FMTTYPE=text/html:Thailand Committee Call with a briefing by Mr. Michael Heath\, Charge d&#39\;Affaires a.i. of the U.S. Mission in Thailand&nbsp\; &nbsp\;
LOCATION:Zoom meeting
UID:e.9078.8404
SEQUENCE:3
DTSTAMP:20260420T000713Z
URL:http://memberzone.usasean.org/events/details/thailand-committee-call-with-cda-michael-heath-8404
END:VEVENT

END:VCALENDAR
