BEGIN:VCALENDAR
VERSION:2.0
PRODID:-//ChamberMaster//Event Calendar 2.0//EN
METHOD:PUBLISH
X-PUBLISHED-TTL:P3D
REFRESH-INTERVAL:P3D
CALSCALE:GREGORIAN
BEGIN:VEVENT
DTSTART:20141028T130000Z
DTEND:20141028T140000Z
X-MICROSOFT-CDO-ALLDAYEVENT:FALSE
SUMMARY:Thailand Business Mission: Conference Call
DESCRIPTION:Thailand Business Mission: Pre-mission Conference Call
X-ALT-DESC;FMTTYPE=text/html:<span style="font-size:14px\;"><span style="font-family: times new roman\;">Thailand Business Mission: Pre-mission Conference Call</span></span>
LOCATION:Dial-in information: Step 1: Dial the Conference Telephone Number: +65 6889-0788 Step 2: Key in 1020259673 followed by the #Key.
UID:e.9078.1300
SEQUENCE:3
DTSTAMP:20260420T034923Z
URL:http://memberzone.usasean.org/events/details/thailand-business-mission-conference-call-10-28-2014-1300
END:VEVENT

END:VCALENDAR
