BEGIN:VCALENDAR
VERSION:2.0
PRODID:-//ChamberMaster//Event Calendar 2.0//EN
METHOD:PUBLISH
X-PUBLISHED-TTL:P3D
REFRESH-INTERVAL:P3D
CALSCALE:GREGORIAN
BEGIN:VEVENT
DTSTART:20150113T200000Z
DTEND:20150113T213000Z
X-MICROSOFT-CDO-ALLDAYEVENT:FALSE
SUMMARY:Teach For Thailand Reception
DESCRIPTION:The Charg  d'affaires of the United States Embassy\, W. Patrick Murphy will be hosting a reception at his residence to honor the Teach for Thailand organization. Teach for Thailand\, modeled on Teach for America\, takes top students from the best Thai universities and places them in underserved Thai schools for one year to teach Thai students. These volunteers delay their careers and gain valuable experience in community service and leadership\, making them better prepared for future careers in business and government.\n\n\n\nThe Charg  would like to invite members of the US-ASEAN Business Council to the reception to meet with the volunteers and hear about their experiences. As Teach for Thailand is in its first year\, it is our hope that with the moral support of the business community\, more students will choose to volunteer and the organization with thrive to benefit Thai society. Also in attendance will be Wendy Kopp\, the founder of Teach for America. Interested parties should RSVP to Nathanael Lynn at lynnnm@state.gov.
X-ALT-DESC;FMTTYPE=text/html:The Charg&eacute\; d&rsquo\;affaires of the United States Embassy\, W. Patrick Murphy will be hosting a reception at his residence to honor the Teach for Thailand organization. Teach for Thailand\, modeled on Teach for America\, takes top students from the best Thai universities and places them in underserved Thai schools for one year to teach Thai students. These volunteers delay their careers and gain valuable experience in community service and leadership\, making them better prepared for future careers in business and government.<br />\n<br />\nThe Charg&eacute\; would like to invite members of the US-ASEAN Business Council to the reception to meet with the volunteers and hear about their experiences. As Teach for Thailand is in its first year\, it is our hope that with the moral support of the&nbsp\;business community\, more students will choose to volunteer and the organization with thrive to benefit Thai society. Also in attendance will be Wendy Kopp\, the founder of Teach for America. Interested parties should RSVP to Nathanael Lynn at lynnnm@state.gov.
LOCATION:Charg d'affaires Residence\, 165 Ratchadamri Road
UID:e.9078.1336
SEQUENCE:3
DTSTAMP:20260419T221624Z
URL:http://memberzone.usasean.org/events/details/teach-for-thailand-reception-01-13-2015-1336
END:VEVENT

END:VCALENDAR
