BEGIN:VCALENDAR
VERSION:2.0
PRODID:-//ChamberMaster//Event Calendar 2.0//EN
METHOD:PUBLISH
X-PUBLISHED-TTL:P3D
REFRESH-INTERVAL:P3D
CALSCALE:GREGORIAN
BEGIN:VEVENT
DTSTART:20171213T043000Z
DTEND:20171213T070000Z
X-MICROSOFT-CDO-ALLDAYEVENT:FALSE
SUMMARY:Tax policy roundtable with ITIC in Hanoi
DESCRIPTION:Tax policy roundtable luncheon with ITIC in Hanoi. ITIC rep will share international best practices on tax policy as Vietnam prepares to overhaul its tax system.
X-ALT-DESC;FMTTYPE=text/html:Tax policy roundtable luncheon with ITIC in Hanoi. ITIC rep will share international best practices on tax policy as Vietnam prepares to overhaul its tax system.
LOCATION:Movenpick hotel\, Hanoi
UID:e.9078.6436
SEQUENCE:3
DTSTAMP:20260419T145535Z
URL:http://memberzone.usasean.org/events/details/tax-policy-roundtable-with-itic-in-hanoi-6436
END:VEVENT

END:VCALENDAR
