BEGIN:VCALENDAR
VERSION:2.0
PRODID:-//ChamberMaster//Event Calendar 2.0//EN
METHOD:PUBLISH
X-PUBLISHED-TTL:P3D
REFRESH-INTERVAL:P3D
CALSCALE:GREGORIAN
BEGIN:VEVENT
DTSTART:20220308T010000Z
DTEND:20220308T023000Z
X-MICROSOFT-CDO-ALLDAYEVENT:FALSE
SUMMARY:Sustainability Committee - Women's Economic Empowerment White Paper Launch
DESCRIPTION:The US-ASEAN Business Council is pleased to welcome you to an online panel discussion to officially launch our Women's Economic Empowerment in ASEAN White Paper. For additional details and to register for the event\, please click here.\n\n\n\nFor more information\, please contact Bernie Baskin (bbaskin@usasean.org).
X-ALT-DESC;FMTTYPE=text/html:<br />\nThe US-ASEAN Business Council is pleased to welcome you to an online panel discussion to officially launch our Women&#39\;s Economic Empowerment in ASEAN White Paper. For additional details and to register for the event\, please <a href="https://usasean.zoom.us/webinar/register/WN_LR2123vKQK6ULDvTAz0EPg"><strong>click here</strong></a>.<br />\n<br />\nFor more information\, please contact Bernie Baskin (bbaskin@usasean.org).&nbsp\;
LOCATION:
UID:e.9078.8697
SEQUENCE:3
DTSTAMP:20260422T194505Z
URL:http://memberzone.usasean.org/events/details/sustainability-committee-women-s-economic-empowerment-white-paper-launch-8697
END:VEVENT

END:VCALENDAR
