BEGIN:VCALENDAR
VERSION:2.0
PRODID:-//ChamberMaster//Event Calendar 2.0//EN
METHOD:PUBLISH
X-PUBLISHED-TTL:P3D
REFRESH-INTERVAL:P3D
CALSCALE:GREGORIAN
BEGIN:VEVENT
DTSTART:20210323T000000Z
DTEND:20210323T013000Z
X-MICROSOFT-CDO-ALLDAYEVENT:FALSE
SUMMARY:Sustainability Committee - Women's Economic Empowerment Panel Discussion
DESCRIPTION:The US-ASEAN Business Council is pleased to welcome you to an online panel discussion focused on women's economic empowerment in Southeast Asia.
X-ALT-DESC;FMTTYPE=text/html:<span style="background:white\;"><span style="color:#333333\;"><span style="font-family:arial\,sans-serif\;"><span style="font-size:10.0pt\;">The US-ASEAN Business Council is pleased to welcome you to an </span></span></span></span>online panel discussion focused on women&rsquo\;s economic empowerment in Southeast Asia.
LOCATION:
UID:e.9078.8424
SEQUENCE:3
DTSTAMP:20260420T000904Z
URL:http://memberzone.usasean.org/events/details/sustainability-committee-women-s-economic-empowerment-panel-discussion-8424
END:VEVENT

END:VCALENDAR
