BEGIN:VCALENDAR
VERSION:2.0
PRODID:-//ChamberMaster//Event Calendar 2.0//EN
METHOD:PUBLISH
X-PUBLISHED-TTL:P3D
REFRESH-INTERVAL:P3D
CALSCALE:GREGORIAN
BEGIN:VEVENT
DTSTART:20210517T120000Z
DTEND:20210517T130000Z
X-MICROSOFT-CDO-ALLDAYEVENT:FALSE
SUMMARY:Sustainability Committee - Waste Management Discussion
DESCRIPTION:One of the core issues for the Sustainability Committee is waste management. This committee discussion will focus specifically on this key issue\, the circular economy\, packaging issues\, advocacy challenges\, and ways in which our members would like the Council to pursue engagements with key ASEAN leadership. We hope you'll join this conversation if these are issues that your company is focused on.
X-ALT-DESC;FMTTYPE=text/html:One of the core issues for the Sustainability Committee is waste management. This committee discussion will focus specifically on this key issue\, the circular economy\, packaging issues\, advocacy challenges\, and ways in which our members would like the Council to pursue engagements with key ASEAN leadership. We hope you&#39\;ll join this conversation if these are issues that your company is focused on.
LOCATION:
UID:e.9078.8462
SEQUENCE:3
DTSTAMP:20260419T210254Z
URL:http://memberzone.usasean.org/events/details/sustainability-committee-waste-management-discussion-8462
END:VEVENT

END:VCALENDAR
