BEGIN:VCALENDAR
VERSION:2.0
PRODID:-//ChamberMaster//Event Calendar 2.0//EN
METHOD:PUBLISH
X-PUBLISHED-TTL:P3D
REFRESH-INTERVAL:P3D
CALSCALE:GREGORIAN
BEGIN:VEVENT
DTSTART:20220310T130000Z
DTEND:20220310T140000Z
X-MICROSOFT-CDO-ALLDAYEVENT:FALSE
SUMMARY:Sustainability Committee UNEA Briefing
DESCRIPTION:Join the Sustainability Committee for a briefing and discussion on outcomes from the Fifth Meeting of the United Nations Environment Assembly (UNEA 5.2) and recent ASEAN advocacy efforts related to UNEA. For questions or to register\, please email Dylan Kean (dkean@usasean.org).
X-ALT-DESC;FMTTYPE=text/html:Join the Sustainability Committee for a briefing and discussion on outcomes from the Fifth Meeting of the United Nations Environment Assembly (UNEA 5.2) and recent ASEAN advocacy efforts related to UNEA. For questions or to register\, please email Dylan Kean (<a href="http://dkean@usasean.org">dkean@usasean.org</a>).
LOCATION:Zoom
UID:e.9078.8717
SEQUENCE:3
DTSTAMP:20260422T192650Z
URL:http://memberzone.usasean.org/events/details/sustainability-committee-unea-briefing-8717
END:VEVENT

END:VCALENDAR
