BEGIN:VCALENDAR
VERSION:2.0
PRODID:-//ChamberMaster//Event Calendar 2.0//EN
METHOD:PUBLISH
X-PUBLISHED-TTL:P3D
REFRESH-INTERVAL:P3D
CALSCALE:GREGORIAN
BEGIN:VEVENT
DTSTART:20210324T120000Z
DTEND:20210324T130000Z
X-MICROSOFT-CDO-ALLDAYEVENT:FALSE
SUMMARY:Sustainability Committee - Smart City / Sustainable Communities Briefing
DESCRIPTION:The US-ASEAN Business Council is pleased to present a series of briefings by the U.S. Government on their ongoing Smart City and Sustainable Communities work related to Southeast Asia. This program will include remarks by:\n\n \n\nHelen Santiago Fink\, Program Manager\, US-ASEAN Smart City Partnership\, discussing the current state of the US-ASEAN Smart City Partnership (USASCP) and key initiatives for 2021\;\n\n \n\nJason Hill\, Senior Transport Advisor\, U.S. Department of Transport\, discussing USDOT's Urban Mobility Program\n\n \n\nCarol Lynn MacCurdy\, Senior Advisor\, Office of Conservation and Water\, OES Bureau at the U.S. Department of State\, discussing integrated urban services projects\;\n\n \n\nChris Rich\, Executive Director\, U.S. Water Partnership\, discussing the US-ASEAN Water Smart Engagements Program (WiSE)\, and\n\n \n\nDavid Nufrio\, Deputy Director\, Office of Southeast Asia\, U.S. Department of Commerce\, discussing business promotion resources and activities.
X-ALT-DESC;FMTTYPE=text/html:The US-ASEAN Business Council is pleased to present a series of briefings by the U.S. Government on their ongoing Smart City and Sustainable Communities work related to Southeast Asia. This program will include remarks by:<br />\n&nbsp\;<br />\n<strong>Helen Santiago Fink\, Program Manager\, US-ASEAN Smart City Partnership</strong>\, discussing the current state of the US-ASEAN Smart City Partnership (USASCP) and key initiatives for 2021\;<br />\n&nbsp\;<br />\n<strong>Jason Hill\, Senior Transport Advisor\, U.S. Department of Transport</strong>\, discussing USDOT&#39\;s Urban Mobility Program<br />\n&nbsp\;<br />\n<strong>Carol Lynn MacCurdy\, Senior Advisor\, Office of Conservation and Water\, OES Bureau at the U.S. Department of State</strong>\, discussing integrated urban services projects\;<br />\n&nbsp\;<br />\n<strong>Chris Rich\, Executive Director\, U.S. Water Partnership</strong>\, discussing the US-ASEAN Water Smart Engagements Program (WiSE)\, and<br />\n&nbsp\;<br />\n<strong><span style="font-family:calibri\,sans-serif\;"><span style="font-size:11.0pt\;">David Nufrio\, Deputy Director\, Office of Southeast Asia\, U.S. Department of Commerce</span></span></strong><span style="font-family:calibri\,sans-serif\;"><span style="font-size:11.0pt\;">\, discussing business promotion resources and activities.</span></span>
LOCATION:
UID:e.9078.8410
SEQUENCE:3
DTSTAMP:20260420T000957Z
URL:http://memberzone.usasean.org/events/details/sustainability-committee-smart-city-sustainable-communities-briefing-8410
END:VEVENT

END:VCALENDAR
