BEGIN:VCALENDAR
VERSION:2.0
PRODID:-//ChamberMaster//Event Calendar 2.0//EN
METHOD:PUBLISH
X-PUBLISHED-TTL:P3D
REFRESH-INTERVAL:P3D
CALSCALE:GREGORIAN
BEGIN:VEVENT
DTSTART:20211109T130000Z
DTEND:20211109T140000Z
X-MICROSOFT-CDO-ALLDAYEVENT:FALSE
SUMMARY:Sustainability Committee Meeting
DESCRIPTION:Please join us for our upcoming Sustainability Committee call where we'll be seeking input on our upcoming activities\, and updating members on our recent work\, including:\n\n \n\n	White Papers on Women's Economic Empowerment and Extended Producer Responsibility in ASEAN\n	USABC-Deloitte White Paper on Sustainability in ASEAN\n	USAID Briefing on the Sustainability and Climate Initiatives Announced during Vice President Harris' visit to Singapore and Vietnam\n	Third Country Training Program (TCTP) session on innovative waste management projects in ASEAN\n	The launch of our Chief Sustainability Officer Fireside Chat Series\n	Fireside Chat with the CEO of Deloitte Asia Pacific on their recent paper\, "Southeast Asia's Turning Point"\n	Briefing on the world's first independently verified plastic credit\, launched recently by TonToTon in Vietnam\n	MOU and signing ceremony between USABC and the National Environment Agency of Singapore\n	State Department Briefing on Zoohackathon 2021\, a global competition that brings together university students and coders to develop innovative technology solutions to combat wildlife trafficking and associated challenges\n	Consultation with ASEAN Environment Ministers in Partnership with the U.S. Mission to ASEAN\n\n  \n\nWe will also welcome feedback and discussion on the proposed 2022 Sustainability Committee Workplan.\n\n\n\nTo register for this meeting\, please contact Dylan Kean (dkean@usasean.org).
X-ALT-DESC;FMTTYPE=text/html:<span style="font-size:12px\;"><span style="font-family:verdana\;">Please join us for our upcoming Sustainability Committee call where we&#39\;ll be seeking input on our upcoming activities\, and&nbsp\;updating members on our recent work\,&nbsp\;including:<br />\n&nbsp\;</span></span>\n<ul>\n	<li><span style="font-size:12px\;"><span style="font-family:verdana\;">White Papers on Women&rsquo\;s Economic Empowerment and Extended Producer Responsibility in ASEAN</span></span></li>\n	<li><span style="font-size:12px\;"><span style="font-family:verdana\;">USABC-Deloitte White Paper on Sustainability in ASEAN</span></span></li>\n	<li><span style="font-size:12px\;"><span style="font-family:verdana\;">USAID Briefing on the Sustainability and Climate Initiatives Announced during Vice President Harris&rsquo\; visit to Singapore and Vietnam</span></span></li>\n	<li><span style="font-size:12px\;"><span style="font-family:verdana\;">Third Country Training Program (TCTP) session on innovative waste management projects in ASEAN</span></span></li>\n	<li><span style="font-size:12px\;"><span style="font-family:verdana\;">The launch of our Chief Sustainability Officer Fireside Chat Series</span></span></li>\n	<li><span style="font-size:12px\;"><span style="font-family:verdana\;">Fireside Chat with the CEO of Deloitte Asia Pacific on their recent paper\, &ldquo\;Southeast Asia&rsquo\;s Turning Point&rdquo\;</span></span></li>\n	<li><span style="font-size:12px\;"><span style="font-family:verdana\;">Briefing on the world&rsquo\;s first independently verified plastic credit\, launched recently by TonToTon in Vietnam</span></span></li>\n	<li><span style="font-size:12px\;"><span style="font-family:verdana\;">MOU and signing ceremony between USABC and the National Environment Agency of Singapore</span></span></li>\n	<li><span style="font-size:12px\;"><span style="font-family:verdana\;">State Department Briefing on Zoohackathon 2021\, a global competition that brings together university students and coders to develop innovative technology solutions to combat wildlife trafficking and associated challenges</span></span></li>\n	<li><span style="font-size:12px\;"><span style="font-family:verdana\;">Consultation with ASEAN Environment Ministers in Partnership with the U.S. Mission to ASEAN</span></span></li>\n</ul>\n<span style="font-size:12px\;"> <span style="font-family:verdana\;">&nbsp\;<br />\nWe will also welcome feedback and discussion on the proposed 2022 Sustainability Committee Workplan.<br />\n<br />\nTo register for this meeting\, please contact Dylan Kean (dkean@usasean.org).</span></span>
LOCATION:
UID:e.9078.8594
SEQUENCE:3
DTSTAMP:20260419T124049Z
URL:http://memberzone.usasean.org/events/details/sustainability-committee-meeting-8594
END:VEVENT

END:VCALENDAR
