BEGIN:VCALENDAR
VERSION:2.0
PRODID:-//ChamberMaster//Event Calendar 2.0//EN
METHOD:PUBLISH
X-PUBLISHED-TTL:P3D
REFRESH-INTERVAL:P3D
CALSCALE:GREGORIAN
BEGIN:VEVENT
DTSTART:20141009T190000Z
DTEND:20141009T200000Z
X-MICROSOFT-CDO-ALLDAYEVENT:FALSE
SUMMARY:Stanford University Hosts the U.S. Ambassadors to Singapore\, Indonesia\, Malaysia and Cambodia
DESCRIPTION:Stanford University students and faculty will join the current U.S. Ambassadors to Singapore\, Indonesia Malaysia and Cambodia for a panel discussion at the Stanford Graduate School of Business.  The discussion will be moderated by Graduate School of Business students.  More information can be found here.
X-ALT-DESC;FMTTYPE=text/html:<span style="font-size:14px\;"><span style="font-family:arial\;">Stanford University students and faculty will join the current U.S. Ambassadors to Singapore\, Indonesia Malaysia and Cambodia for a panel discussion at the Stanford Graduate School of Business. &nbsp\;The discussion will be moderated by Graduate School of Business students. &nbsp\;More information can be found <a href="http://cloud.chambermaster.com/userfiles/UserFiles/chambers/9078/File/StanfordUniversityItineraryforUSAmbassadors.pdf">here</a>.</span></span>
LOCATION:Stanford Graduate School of Business Knight Management Center Stanford University 655 Knight Way Stanford\, CA 94305-7298 USA T +1 650.725.3238 F +1 650.725.6750 gsb.stanford.edu
UID:e.9078.1279
SEQUENCE:3
DTSTAMP:20260420T035047Z
URL:http://memberzone.usasean.org/events/details/stanford-university-hosts-the-u-s-ambassadors-to-singapore-indonesia-malaysia-and-cambodia-10-09-2014-1279
END:VEVENT

END:VCALENDAR
