BEGIN:VCALENDAR
VERSION:2.0
PRODID:-//ChamberMaster//Event Calendar 2.0//EN
METHOD:PUBLISH
X-PUBLISHED-TTL:P3D
REFRESH-INTERVAL:P3D
CALSCALE:GREGORIAN
BEGIN:VEVENT
DTSTART;VALUE=DATE:20120414
DTEND;VALUE=DATE:20120415
TRANSP:TRANSPARENT
X-MICROSOFT-CDO-ALLDAYEVENT:TRUE
SUMMARY:Sponsorship for Roundtable Discussion with Congressional Staff Delegation - Apr 14 2012
DESCRIPTION:
X-ALT-DESC;FMTTYPE=text/html:
LOCATION:
UID:e.9078.559
SEQUENCE:3
DTSTAMP:20260425T034349Z
URL:http://memberzone.usasean.org/events/details/sponsorship-for-roundtable-discussion-with-congressional-staff-delegation-apr-14-2012-04-14-2012-559
END:VEVENT

END:VCALENDAR
