BEGIN:VCALENDAR
VERSION:2.0
PRODID:-//ChamberMaster//Event Calendar 2.0//EN
METHOD:PUBLISH
X-PUBLISHED-TTL:P3D
REFRESH-INTERVAL:P3D
CALSCALE:GREGORIAN
BEGIN:VEVENT
DTSTART:20210928T003000Z
DTEND:20210928T013000Z
X-MICROSOFT-CDO-ALLDAYEVENT:FALSE
SUMMARY:Special Virtual Briefing on VP Harris' Climate and Sustainability Initiatives
DESCRIPTION:Virtual briefing on the climate and sustainability initiatives announced during VP Harris' recent Southeast Asia trip by:\n\n	Daniel Kandy\, Senior Advisor to the U.S. Special Presidential Envoy for Climate (SPEC)\, Department of State\n	Ann Marie Yastishock\, Mission Director for USAID/Vietnam\n	Greg Leon\, Office Director\, Economic Growth and Governance Office\, USAID/Vietnam\n	Christine Gandomi\, Acting Director\, Office of Climate Change\, Energy\, and Environment\, USAID/Vietnam
X-ALT-DESC;FMTTYPE=text/html:Virtual briefing on the climate and sustainability initiatives announced during VP Harris&#39\; recent Southeast Asia trip by:\n<ul>\n	<li>Daniel Kandy\, Senior Advisor to the U.S. Special Presidential Envoy for Climate (SPEC)\, Department of State</li>\n	<li>Ann Marie Yastishock\, Mission Director for USAID/Vietnam</li>\n	<li>Greg Leon\, Office Director\, Economic Growth and Governance Office\, USAID/Vietnam</li>\n	<li>Christine Gandomi\, Acting Director\, Office of Climate Change\, Energy\, and Environment\, USAID/Vietnam</li>\n</ul>\n
LOCATION:
UID:e.9078.8587
SEQUENCE:3
DTSTAMP:20260419T142157Z
URL:http://memberzone.usasean.org/events/details/special-virtual-briefing-on-vp-harris-climate-and-sustainability-initiatives-8587
END:VEVENT

END:VCALENDAR
