BEGIN:VCALENDAR
VERSION:2.0
PRODID:-//ChamberMaster//Event Calendar 2.0//EN
METHOD:PUBLISH
X-PUBLISHED-TTL:P3D
REFRESH-INTERVAL:P3D
CALSCALE:GREGORIAN
BEGIN:VEVENT
DTSTART:20210312T010000Z
DTEND:20210312T020000Z
X-MICROSOFT-CDO-ALLDAYEVENT:FALSE
SUMMARY:Special Briefing on Vietnam Draft National Power Development Plan 8
DESCRIPTION:Special Briefing on Vietnam Draft National Power Development Plan 8\n\nwith Mr. Nguyen Thanh Ha - Founder & CEO\, Vietbid
X-ALT-DESC;FMTTYPE=text/html:Special Briefing on Vietnam Draft National Power Development Plan 8<br />\nwith&nbsp\;<span style="font-size:12px\;"><strong><span style="letter-spacing:0.75pt\;"><span style="font-family:arial\,sans-serif\;">Mr. Nguyen Thanh Ha - Founder</span></span><span style="letter-spacing:.75pt\;"><span style="font-family:arial\,sans-serif\;"> &amp\; CEO\, Vietbid</span></span></strong></span>
LOCATION:Zoom
UID:e.9078.8415
SEQUENCE:3
DTSTAMP:20260420T000627Z
URL:http://memberzone.usasean.org/events/details/special-briefing-on-vietnam-draft-national-power-development-plan-8-8415
END:VEVENT

END:VCALENDAR
