BEGIN:VCALENDAR
VERSION:2.0
PRODID:-//ChamberMaster//Event Calendar 2.0//EN
METHOD:PUBLISH
X-PUBLISHED-TTL:P3D
REFRESH-INTERVAL:P3D
CALSCALE:GREGORIAN
BEGIN:VEVENT
DTSTART:20240627T210000Z
DTEND:20240627T230000Z
X-MICROSOFT-CDO-ALLDAYEVENT:FALSE
SUMMARY:Southeast Asia Happy Hour with The Asia Group and the US-ASEAN Business Council
DESCRIPTION:The US-ASEAN Business Council and The Asia Group (TAG) are pleased to invite you to a networking reception graciously hosted by TAG at their Washington D.C. office rooftop. This venue will provide members of both organizations and interested parties a unique opportunity to connect with leaders in the ASEAN think tank community\, USG officials covering Southeast Asia\, and ASEAN embassy representatives.\n\n\n\nWe will be serving a selection of drinks and authentic Southeast Asian snacks. Should you have any questions\, please do not hesitate to contact US-ABC's Andrew Koch at akoch@usasean.org\, Logan Carnicelli at lcarnicelli@usasean.org\, or Mehu Sitepu from TAG at sitepu@theasiagroup.com.
X-ALT-DESC;FMTTYPE=text/html:<span style="font-size: 16px\; text-align: justify\;">The US-ASEAN Business Council and The Asia Group (TAG)&nbsp\;are&nbsp\;pleased to invite you to a networking reception graciously hosted by TAG at their Washington&nbsp\;D.C. office rooftop. This venue will provide members of both organizations and interested parties a unique opportunity to connect with leaders in the ASEAN think tank community\, USG officials covering Southeast Asia\, and ASEAN embassy representatives.</span><br style="font-size: 16px\; text-align: justify\;" />\n<br style="font-size: 16px\; text-align: justify\;" />\n<span style="font-size: 16px\; text-align: justify\;">We will be serving a selection of drinks and authentic Southeast Asian snacks. Should you have any questions\, please do not hesitate to contact US-ABC&#39\;s Andrew Koch at&nbsp\;</span><a href="mailto:akoch@usasean.org" style="font-size: 16px\; text-align: justify\;">akoch@usasean.org</a><span style="font-size: 16px\; text-align: justify\;">\,&nbsp\;Logan Carnicelli at&nbsp\;</span><a href="mailto:lcarnicelli@usasean.org" style="font-size: 16px\; text-align: justify\;">lcarnicelli@usasean.org</a><span style="font-size: 16px\; text-align: justify\;">\, or Mehu Sitepu from TAG at&nbsp\;</span><a href="mailto:sitepu@theasiagroup.com" style="font-size: 16px\; text-align: justify\;">sitepu@theasiagroup.com</a><span style="font-size: 16px\; text-align: justify\;">.</span>
LOCATION:The Asia Group Washington D.C. Offices 2000 Pennsylvania Avenue NW Suite 1000 Washington D.C. 20006
UID:e.9078.9308
SEQUENCE:3
DTSTAMP:20260420T132045Z
URL:http://memberzone.usasean.org/events/details/southeast-asia-happy-hour-with-the-asia-group-and-the-us-asean-business-council-9308
END:VEVENT

END:VCALENDAR
