BEGIN:VCALENDAR
VERSION:2.0
PRODID:-//ChamberMaster//Event Calendar 2.0//EN
METHOD:PUBLISH
X-PUBLISHED-TTL:P3D
REFRESH-INTERVAL:P3D
CALSCALE:GREGORIAN
BEGIN:VEVENT
DTSTART:20140115T140000Z
DTEND:20140115T150000Z
X-MICROSOFT-CDO-ALLDAYEVENT:FALSE
SUMMARY:Smithsonian Myanmar Programs
DESCRIPTION:A discussion with Steve Monfort of the Smithsonian National Zoological Park
X-ALT-DESC;FMTTYPE=text/html:A discussion with Steve Monfort of the Smithsonian National Zoological Park
LOCATION:US-ABC Offices 1101 17th Street NW Washington DC Suite 411 OR Call-in
UID:e.9078.1008
SEQUENCE:3
DTSTAMP:20260421T090855Z
URL:http://memberzone.usasean.org/events/details/smithsonian-myanmar-programs-01-15-2014-1008
END:VEVENT

END:VCALENDAR
