BEGIN:VCALENDAR
VERSION:2.0
PRODID:-//ChamberMaster//Event Calendar 2.0//EN
METHOD:PUBLISH
X-PUBLISHED-TTL:P3D
REFRESH-INTERVAL:P3D
CALSCALE:GREGORIAN
BEGIN:VEVENT
DTSTART;VALUE=DATE:20140621
DTEND;VALUE=DATE:20140622
TRANSP:TRANSPARENT
X-MICROSOFT-CDO-ALLDAYEVENT:TRUE
SUMMARY:SMEs in a Digital\, Borderless\, Competitive and Greener World: Development Trends and Tools
DESCRIPTION:As part of our SME Business Alliance please join us for the next SME Workshop in Jakarta:\n\n\n\nSMEs in a Digital\, Borderless\, Competitive and Greener World: Development Trends and Tools\n\n\n\nFor the latest agenda please click here.
X-ALT-DESC;FMTTYPE=text/html:<strong><span style="font-family:calibri\,sans-serif\;"><span style="font-size:12.0pt\;">As part of our SME Business Alliance please join us for the next SME Workshop in Jakarta:<br />\n<br />\nSMEs in a Digital\, Borderless\, Competitive and Greener World: Development Trends and Tools<br />\n<br />\n<a href="http://cloud.chambermaster.com/userfiles/UserFiles/chambers/9078/File/AgendaforSMETrainingonDevelopmentTrendsandTools-Jakarta-21June2014.doc">For the latest agenda please click here.&nbsp\;</a> </span></span></strong><br />\n<br />\n&nbsp\;
LOCATION:Hotel Mulia Jl. Asia Afrika Senayan\, Jakarta Indonesia
UID:e.9078.1170
SEQUENCE:3
DTSTAMP:20260420T102354Z
URL:http://memberzone.usasean.org/events/details/smes-in-a-digital-borderless-competitive-and-greener-world-development-trends-and-tools-06-21-2014-1170
END:VEVENT

END:VCALENDAR
