BEGIN:VCALENDAR
VERSION:2.0
PRODID:-//ChamberMaster//Event Calendar 2.0//EN
METHOD:PUBLISH
X-PUBLISHED-TTL:P3D
REFRESH-INTERVAL:P3D
CALSCALE:GREGORIAN
BEGIN:VEVENT
DTSTART;VALUE=DATE:20220729
DTEND;VALUE=DATE:20220730
TRANSP:TRANSPARENT
X-MICROSOFT-CDO-ALLDAYEVENT:TRUE
SUMMARY:SME Workshop in the Philippines: Addressing Digital Skill Gaps for Philippines SMEs
DESCRIPTION:The US-ASEAN Business Council ("US-ABC") is pleased to continue our ongoing initiatives for the SME Workshop Series: Rebuilding the ASEAN Economy   as a part of the ASEAN SME Academy ("the Academy")   which aims to help ASEAN small and medium enterprises (SMEs) recover stronger from the COVID-19 pandemic and better adapt to the digital economy. The upcoming workshop will be focusing on "Addressing Digital Skill Gaps for Philippines SMEs"   which will be conducted on Thursday\, July 28\, 2022\, from 09.00 AM   04.00 PM in Manila\, the Philippines.
X-ALT-DESC;FMTTYPE=text/html:The US-ASEAN Business Council (&ldquo\;US-ABC&rdquo\;) is pleased to continue our ongoing initiatives for the&nbsp\;<strong>SME Workshop Series: Rebuilding the ASEAN Economy</strong>&nbsp\;&ndash\; as a part of the&nbsp\;<a href="http://asean-sme-academy.org/" style="color:rgb(149\, 79\, 114)\;">ASEAN SME Academy</a>&nbsp\;(&ldquo\;the Academy&rdquo\;) &ndash\; which aims to help ASEAN small and medium enterprises (SMEs) recover stronger from the COVID-19 pandemic and better adapt to the digital economy. The upcoming workshop will be focusing on &ldquo\;<strong>Addressing Digital Skill Gaps for Philippines SMEs</strong>&rdquo\; &ndash\; which will be conducted on&nbsp\;<strong><span style="background-color:yellow\;">Thursday</span></strong><span style="background-color:yellow\;">\,&nbsp\;<strong>July 28\, 2022</strong></span><strong>\,&nbsp\;</strong>from&nbsp\;<strong><span style="background-color:yellow\;">09.00 AM &ndash\; 04.00 PM</span>&nbsp\;in Manila\, the Philippines.</strong>
LOCATION:Venue: Manila\, Philippines (to be confirmed)
UID:e.9078.8804
SEQUENCE:3
DTSTAMP:20260422T013951Z
URL:http://memberzone.usasean.org/events/details/sme-workshop-in-the-philippines-addressing-digital-skill-gaps-for-philippines-smes-8804
END:VEVENT

END:VCALENDAR
