BEGIN:VCALENDAR
VERSION:2.0
PRODID:-//ChamberMaster//Event Calendar 2.0//EN
METHOD:PUBLISH
X-PUBLISHED-TTL:P3D
REFRESH-INTERVAL:P3D
CALSCALE:GREGORIAN
BEGIN:VEVENT
DTSTART:20210831T010000Z
DTEND:20210831T053000Z
X-MICROSOFT-CDO-ALLDAYEVENT:FALSE
SUMMARY:SME Webinar in Thailand: Supporting Thailand SMEs' Digitalization Amid COVID-19
DESCRIPTION:Background\n\nThe US-ASEAN Business Council (the Council) is pleased to continue the SME Webinar Series in Response to COVID-19 in 2021 and will have the second webinar capacity building program in Thailand with a focus on\, "Supporting Thailand SMEs' Digitalization Amid COVID-19". The Webinar Series is a part of the ASEAN SME Academy activity to empower ASEAN SMEs' strive in COVID-19 crisis and part of the economic recovery program. The program is also part of the US business commitment to enhancing ASEAN SMEs' digital skills to become more competitive in domestic markets and help SMEs to be better integrated into regional and global value chains. \n\nThailand SMEs are the backbone of the Thai Economy and have a vital role to drive forward the recovery process in Thailand. According to the ADBI Working Paper\, SMEs contributed to the Thai economy by about 45% or seven trillion baht (USD 215 billion) in 2018. Thai SMEs also employed 14 million people in 2018 or accounted for 86% of the total employment. However\, SMEs are particularly more vulnerable to the economic impacts of the COVID-19 pandemic. It has been a year since the pandemic worsened the economic situation and the crisis is pushing more consumers online and accelerating the adoption of e-commerce\, which requires further digital adaptation by SMEs. \n\nPromoting the digitalization of SMEs can help address a number of the economic challenges posed by the COVID-19 crisis. Supporting SMEs' digitalization requires a strong effort from the government and strengthen partnerships with the private sector to create an effective intervention in capacity building dan knowledge transfer that allows SMEs to reap the benefits of the digital world. The webinar will feature prominent US-ABC member speakers to share the latest technology solutions to support SMEs' business operations during the COVID-19 pandemic.\n\n\n\nObjectives\n\n	Help Thai SMEs adapt to the COVID-19 crisis and emerge stronger in a post-COVID-19 economy. \n	Unlocking the benefits from e-commerce and increase Thai SMEs' efficiency and productivity in the digital economy era. \n	Promote the benefits of digital payments and upscale SMEs' digital skills to be more competitive.   \n\nFormat\n\n\n	210 minutes of a hybrid/virtual session. \n	Keynote address from senior officials to share the current policy for SMEs development in Thailand.\n	Training session from US-ABC member company to share the latest digital tools to help small businesses adapt amid the disruption.\n	Live recording using Zoom webinar.
X-ALT-DESC;FMTTYPE=text/html:<strong><span style="font-family:arial\,sans-serif\;">Background</span></strong><br />\n<span style="font-family:arial\,sans-serif\;">The US-ASEAN Business Council (the Council) is pleased to continue <strong>the SME Webinar Series in Response to COVID-19</strong> in 2021 and will have the second webinar capacity building program in Thailand with a focus on\, <strong>&ldquo\;Supporting Thailand SMEs&rsquo\; Digitalization Amid COVID-19&rdquo\;</strong>. The Webinar Series is a part of the ASEAN SME Academy activity to empower ASEAN SMEs&rsquo\; strive in COVID-19 crisis and part of the economic recovery program. The program is also part of the US business commitment to enhancing ASEAN SMEs&rsquo\; digital skills to become more competitive in domestic markets and help SMEs to be better integrated into regional and global value chains. </span><br />\n<span style="font-family:arial\,sans-serif\;">Thailand SMEs are the backbone of the Thai Economy and have a vital role to drive forward the recovery process in Thailand. According to the ADBI Working Paper\, SMEs contributed to the Thai economy by about 45% or seven trillion baht (USD 215 billion) in 2018. Thai SMEs also employed 14 million people in 2018 or accounted for 86% of the total employment. However\, SMEs are particularly more vulnerable to the economic impacts of the COVID-19 pandemic. It has been a year since the pandemic worsened the economic situation and the crisis is pushing more consumers online and accelerating the adoption of e-commerce\, which requires further digital adaptation by SMEs. </span><br />\n<span style="font-family:arial\,sans-serif\;">Promoting the digitalization of SMEs can help address a number of the economic challenges posed by the COVID-19 crisis. Supporting SMEs&rsquo\; digitalization requires a strong effort from the government and strengthen partnerships with the private sector to create an effective intervention in capacity building dan knowledge transfer that allows SMEs to reap the benefits of the digital world. The webinar will feature prominent US-ABC member speakers to share the latest technology solutions to support SMEs&rsquo\; business operations during the COVID-19 pandemic.</span><br />\n<br />\n<strong><span style="font-family:arial\,sans-serif\;">Objectives</span></strong>\n<ul>\n	<li style="text-align:justify\;"><span style="font-family:arial\,sans-serif\;">Help Thai SMEs adapt to the COVID-19 crisis and emerge stronger in a post-COVID-19 economy. </span></li>\n	<li style="text-align:justify\;"><span style="font-family:arial\,sans-serif\;">Unlocking the benefits from e-commerce and increase Thai SMEs&#39\; efficiency and productivity in the digital economy era. </span></li>\n	<li style="text-align:justify\;"><span style="font-family:arial\,sans-serif\;">Promote the benefits of digital payments and upscale SMEs&rsquo\; digital skills to be more competitive. &nbsp\;&nbsp\;</span></li>\n</ul>\n<strong><span style="font-family:arial\,sans-serif\;">Format</span></strong>\n\n<ul>\n	<li style="text-align:justify\;"><span style="font-family:arial\,sans-serif\;">210 minutes of a hybrid/virtual session. </span></li>\n	<li style="text-align:justify\;"><span style="font-family:arial\,sans-serif\;">Keynote address from senior officials to share the current policy for SMEs development in Thailand.</span></li>\n	<li style="text-align:justify\;"><span style="font-family:arial\,sans-serif\;">Training session from US-ABC member company to share the latest digital tools to help small businesses adapt amid the disruption.</span></li>\n	<li style="text-align:justify\;"><span style="font-family:arial\,sans-serif\;">Live recording using Zoom webinar. &nbsp\;</span></li>\n</ul>\n
LOCATION:Zoom Webinar Please register by following the link here.
UID:e.9078.8521
SEQUENCE:3
DTSTAMP:20260419T174047Z
URL:http://memberzone.usasean.org/events/details/sme-webinar-in-thailand-supporting-thailand-smes-digitalization-amid-covid-19-8521
END:VEVENT

END:VCALENDAR
