BEGIN:VCALENDAR
VERSION:2.0
PRODID:-//ChamberMaster//Event Calendar 2.0//EN
METHOD:PUBLISH
X-PUBLISHED-TTL:P3D
REFRESH-INTERVAL:P3D
CALSCALE:GREGORIAN
BEGIN:VEVENT
DTSTART:20200710T030000Z
DTEND:20200710T050000Z
X-MICROSOFT-CDO-ALLDAYEVENT:FALSE
SUMMARY:SME Webinar: Enhancing Digital Skills for Thailand SMEs in COVID-19
DESCRIPTION:Thailand SMEs have a vital role to drive forward the Thai economy. According to the Office of SMEs Promotion (OSMEP)\, SMEs accounted for 42\,4% of the national gross domestic product (GDP) with a value of 6\,5 trillion baht in 2018. SMEs also created more than 12\,1 million jobs position in 2017. In total\, Thailand has around 3 million SMEs. However\, SMEs also one of the most affected actors during the Covid-19. It is vital to help SMEs cope with the disruption. As the government increase the restricted movement and limiting outdoor activities\, the consumers in Thailand now are moving to digital commerce. The number of e-commerce users has increased to 30% since March 2020.\n\n\n\nDigital commerce has gained popularity and mastering digital skills to overcome challenges in this situation has never been as important as it is now. SMEs are required to be flexible and ready in different circumstances they encounter. However\, only 592\,000 has online merchants\, and 382\,000 have their own websites. It is important to improve Thai SMEs' digital competence and have the ability to identify the right digital tools to support their business.\n\n\n\nOpening Remarks: \n\n	Amb. Michael W. Michalak\, Senior Vice President & Regional Managing Director\, US-ASEAN Business Council\n	Mr. Veerapong Malai\, Director General of Office of SMEs Promotion of Thailand (OSMEP)\n	Assoc. Prof. Dr. Ruth Banomyong\, Dean of Thammasat Business School \n\nSpeakers: \n\n\n	Dr. Wimonkan Kosumas\, Deputy of Director General of Office of SMEs Promotion of Thailand (OSMEP)\n	Natsicha Voraprukpisut\, Head of Market Development\, Mastercard\n	Boonthida Ratanavilaikul\, Marketing Manager\, FedEx\n\n\n\nSponsor: \n\nThe webinar is supported by Mastercard.
X-ALT-DESC;FMTTYPE=text/html:<span font-size:="" helvetica="" style="color: rgb(0\, 0\, 0)\; font-family: ciscosansttregular\, ">Thailand SMEs have a vital role to drive forward the Thai economy. According to the Office of SMEs Promotion (OSMEP)\, SMEs accounted for 42\,4% of the national gross domestic product (GDP) with a value of 6\,5 trillion baht in 2018. SMEs also created more than 12\,1 million jobs position in 2017. In total\, Thailand has around 3 million SMEs. However\, SMEs also one of the most affected actors during the Covid-19. It is vital to help SMEs cope with the disruption. As the government increase the restricted movement and limiting outdoor activities\, the consumers in Thailand now are moving to digital commerce. The number of e-commerce users has increased to 30% since March 2020.</span><br font-size:="" helvetica="" style="color: rgb(0\, 0\, 0)\; font-family: ciscosansttregular\, " />\n<br />\n<span font-size:="" helvetica="" style="color: rgb(0\, 0\, 0)\; font-family: ciscosansttregular\, ">Digital commerce has gained popularity and mastering digital skills to overcome challenges in this situation has never been as important as it is now. SMEs are required to be flexible and ready in different circumstances they encounter. However\, only 592\,000 has online merchants\, and 382\,000 have their own websites. It is important to improve Thai SMEs&rsquo\; digital competence and have the ability to identify the right digital tools to support their business.</span><br font-size:="" helvetica="" style="color: rgb(0\, 0\, 0)\; font-family: ciscosansttregular\, " />\n<br />\n<strong>Opening Remarks:&nbsp\;</strong>\n<ul>\n	<li><strong>Amb. Michael&nbsp\;W. Michalak</strong>\, Senior Vice President &amp\; Regional Managing Director\, US-ASEAN Business Council</li>\n	<li><strong>Mr. Veerapong Malai</strong>\, Director General of Office of SMEs Promotion of Thailand (OSMEP)</li>\n	<li><strong>Assoc. Prof. Dr. Ruth Banomyong</strong>\, Dean of Thammasat Business School&nbsp\;</li>\n</ul>\n<strong>Speakers:&nbsp\;</strong>\n\n<ul>\n	<li><strong>Dr. Wimonkan Kosumas</strong>\, Deputy of Director General of Office of SMEs Promotion of Thailand (OSMEP)</li>\n	<li><strong>Natsicha Voraprukpisut</strong>\, Head of Market Development\, Mastercard</li>\n	<li><strong>Boonthida Ratanavilaikul</strong>\, Marketing Manager\, FedEx</li>\n</ul>\n<br />\n<strong>Sponsor:&nbsp\;</strong><br />\nThe webinar is supported by Mastercard.
LOCATION:The webinar is powered by Cisco WebEx. Please register by following the link here. The event number 166 256 4296 Webinar password: "webinar"
UID:e.9078.8228
SEQUENCE:3
DTSTAMP:20260420T130222Z
URL:http://memberzone.usasean.org/events/details/sme-webinar-enhancing-digital-skills-for-thailand-smes-in-covid-19-8228
END:VEVENT

END:VCALENDAR
